BEGIN:VCALENDAR
VERSION:2.0
PRODID:-//Presbytery of the James - ECPv6.15.18//NONSGML v1.0//EN
CALSCALE:GREGORIAN
METHOD:PUBLISH
X-WR-CALNAME:Presbytery of the James
X-ORIGINAL-URL:https://presbyteryofthejames.com
X-WR-CALDESC:Events for Presbytery of the James
REFRESH-INTERVAL;VALUE=DURATION:PT1H
X-Robots-Tag:noindex
X-PUBLISHED-TTL:PT1H
BEGIN:VTIMEZONE
TZID:America/New_York
BEGIN:DAYLIGHT
TZOFFSETFROM:-0500
TZOFFSETTO:-0400
TZNAME:EDT
DTSTART:20230312T070000
END:DAYLIGHT
BEGIN:STANDARD
TZOFFSETFROM:-0400
TZOFFSETTO:-0500
TZNAME:EST
DTSTART:20231105T060000
END:STANDARD
BEGIN:DAYLIGHT
TZOFFSETFROM:-0500
TZOFFSETTO:-0400
TZNAME:EDT
DTSTART:20240310T070000
END:DAYLIGHT
BEGIN:STANDARD
TZOFFSETFROM:-0400
TZOFFSETTO:-0500
TZNAME:EST
DTSTART:20241103T060000
END:STANDARD
BEGIN:DAYLIGHT
TZOFFSETFROM:-0500
TZOFFSETTO:-0400
TZNAME:EDT
DTSTART:20250309T070000
END:DAYLIGHT
BEGIN:STANDARD
TZOFFSETFROM:-0400
TZOFFSETTO:-0500
TZNAME:EST
DTSTART:20251102T060000
END:STANDARD
END:VTIMEZONE
BEGIN:VEVENT
DTSTART;TZID=America/New_York:20240817T100000
DTEND;TZID=America/New_York:20240817T120000
DTSTAMP:20260422T050242
CREATED:20240808T185742Z
LAST-MODIFIED:20240808T185742Z
UID:14265-1723888800-1723896000@presbyteryofthejames.com
SUMMARY:SDOP Informational Event
DESCRIPTION:Learn about SDOP and its work on issues of poverty\, injustice\, and oppression.
URL:https://presbyteryofthejames.com/event/sdop-informational-event/
LOCATION:Ettrick Public Library\, 4501 River Rd\, Petersburg\, Virginia\, 23803-1732\, United States
END:VEVENT
BEGIN:VEVENT
DTSTART;TZID=America/New_York:20240815T190000
DTEND;TZID=America/New_York:20240815T193000
DTSTAMP:20260422T050242
CREATED:20240711T173627Z
LAST-MODIFIED:20240801T192117Z
UID:14117-1723748400-1723750200@presbyteryofthejames.com
SUMMARY:Called Special Meeting of POJ
DESCRIPTION:The purpose of this meeting is to receive a report from the Commission on Ministry about minimum terms of call and act on their recommendations. This will be a virtual meeting only.
URL:https://presbyteryofthejames.com/event/called-special-meeting-of-poj-2/
LOCATION:Zoom
END:VEVENT
BEGIN:VEVENT
DTSTART;TZID=America/New_York:20240814T120000
DTEND;TZID=America/New_York:20240814T123000
DTSTAMP:20260422T050242
CREATED:20240711T173737Z
LAST-MODIFIED:20240711T173737Z
UID:14119-1723636800-1723638600@presbyteryofthejames.com
SUMMARY:Registration Deadline for Aug 15 Special Meeting
DESCRIPTION:
URL:https://presbyteryofthejames.com/event/registration-deadline-for-aug-15-special-meeting/
END:VEVENT
BEGIN:VEVENT
DTSTART;TZID=America/New_York:20240814T100000
DTEND;TZID=America/New_York:20240814T110000
DTSTAMP:20260422T050242
CREATED:20240105T165907Z
LAST-MODIFIED:20240105T165907Z
UID:12765-1723629600-1723633200@presbyteryofthejames.com
SUMMARY:Mission Council/Trustees Leadership
DESCRIPTION:
URL:https://presbyteryofthejames.com/event/mission-council-trustees-leadership-2/
LOCATION:Zoom
END:VEVENT
BEGIN:VEVENT
DTSTART;TZID=America/New_York:20240813T130000
DTEND;TZID=America/New_York:20240813T150000
DTSTAMP:20260422T050242
CREATED:20240105T165809Z
LAST-MODIFIED:20240105T165809Z
UID:12763-1723554000-1723561200@presbyteryofthejames.com
SUMMARY:Committee on Nominations (CON)
DESCRIPTION:
URL:https://presbyteryofthejames.com/event/committee-on-nominations-con-39/
END:VEVENT
BEGIN:VEVENT
DTSTART;TZID=America/New_York:20240813T110000
DTEND;TZID=America/New_York:20240813T123000
DTSTAMP:20260422T050242
CREATED:20240105T165729Z
LAST-MODIFIED:20240105T165729Z
UID:12761-1723546800-1723552200@presbyteryofthejames.com
SUMMARY:POJ Staff Meeting
DESCRIPTION:
URL:https://presbyteryofthejames.com/event/poj-staff-meeting-31/
LOCATION:Presbytery of the James\, 3218 Chamberlayne Ave.\, Richmond\, VA\, 23227\, United States
END:VEVENT
BEGIN:VEVENT
DTSTART;TZID=America/New_York:20240808T103000
DTEND;TZID=America/New_York:20240808T120000
DTSTAMP:20260422T050242
CREATED:20240105T165601Z
LAST-MODIFIED:20240105T165601Z
UID:12759-1723113000-1723118400@presbyteryofthejames.com
SUMMARY:Commission on Ministry (COM)
DESCRIPTION:
URL:https://presbyteryofthejames.com/event/commission-on-ministry-com-31/
LOCATION:Presbytery of the James\, 3218 Chamberlayne Ave.\, Richmond\, VA\, 23227\, United States
END:VEVENT
BEGIN:VEVENT
DTSTART;TZID=America/New_York:20240806T110000
DTEND;TZID=America/New_York:20240806T123000
DTSTAMP:20260422T050242
CREATED:20240105T165419Z
LAST-MODIFIED:20240105T165419Z
UID:12755-1722942000-1722947400@presbyteryofthejames.com
SUMMARY:POJ Staff Meeting
DESCRIPTION:
URL:https://presbyteryofthejames.com/event/poj-staff-meeting-30/
LOCATION:Presbytery of the James\, 3218 Chamberlayne Ave.\, Richmond\, VA\, 23227\, United States
END:VEVENT
BEGIN:VEVENT
DTSTART;TZID=America/New_York:20240801T130000
DTEND;TZID=America/New_York:20240801T150000
DTSTAMP:20260422T050242
CREATED:20240105T165245Z
LAST-MODIFIED:20240105T165245Z
UID:12753-1722517200-1722524400@presbyteryofthejames.com
SUMMARY:Commission on Ministry (COM) Examinations
DESCRIPTION:
URL:https://presbyteryofthejames.com/event/commission-on-ministry-com-examinations-6/
END:VEVENT
BEGIN:VEVENT
DTSTART;TZID=America/New_York:20240801T120000
DTEND;TZID=America/New_York:20240801T130000
DTSTAMP:20260422T050242
CREATED:20240105T165146Z
LAST-MODIFIED:20240105T165146Z
UID:12751-1722513600-1722517200@presbyteryofthejames.com
SUMMARY:Commission on Ministry (COM) Moderators
DESCRIPTION:
URL:https://presbyteryofthejames.com/event/commission-on-ministry-com-moderators/
END:VEVENT
BEGIN:VEVENT
DTSTART;TZID=America/New_York:20240801T103000
DTEND;TZID=America/New_York:20240801T120000
DTSTAMP:20260422T050242
CREATED:20240105T165052Z
LAST-MODIFIED:20240105T165052Z
UID:12749-1722508200-1722513600@presbyteryofthejames.com
SUMMARY:Commission on Ministry (COM) Subcommittees
DESCRIPTION:
URL:https://presbyteryofthejames.com/event/commission-on-ministry-com-subcommittees-7/
END:VEVENT
BEGIN:VEVENT
DTSTART;VALUE=DATE:20240801
DTEND;VALUE=DATE:20240802
DTSTAMP:20260422T050242
CREATED:20240712T174927Z
LAST-MODIFIED:20240712T174927Z
UID:14132-1722470400-1722556799@presbyteryofthejames.com
SUMMARY:Packet online and registration opens for Aug 15 Special meeting
DESCRIPTION:
URL:https://presbyteryofthejames.com/event/packet-online-and-registration-opens-for-aug-15-special-meeting/
END:VEVENT
BEGIN:VEVENT
DTSTART;VALUE=DATE:20240731
DTEND;VALUE=DATE:20240801
DTSTAMP:20260422T050242
CREATED:20240726T144309Z
LAST-MODIFIED:20240726T144309Z
UID:14182-1722384000-1722470399@presbyteryofthejames.com
SUMMARY:POJ Office Closed
DESCRIPTION:
URL:https://presbyteryofthejames.com/event/poj-office-closed-23/
END:VEVENT
BEGIN:VEVENT
DTSTART;TZID=America/New_York:20240730T173000
DTEND;TZID=America/New_York:20240730T193000
DTSTAMP:20260422T050242
CREATED:20240711T173357Z
LAST-MODIFIED:20240711T173357Z
UID:14114-1722360600-1722367800@presbyteryofthejames.com
SUMMARY:Called Special Meeting of POJ
DESCRIPTION:The purpose of this special meeting is to receive the report of the Strategic Plan Review Task Force and act on their recommendations.
URL:https://presbyteryofthejames.com/event/called-special-meeting-of-poj/
LOCATION:First Presbyeterian Church Richmond\, 4602 Cary Street Rd\, Richmond\, VA\, 23226\, United States
END:VEVENT
BEGIN:VEVENT
DTSTART;TZID=America/New_York:20240730T110000
DTEND;TZID=America/New_York:20240730T123000
DTSTAMP:20260422T050242
CREATED:20240105T164807Z
LAST-MODIFIED:20240105T164807Z
UID:12747-1722337200-1722342600@presbyteryofthejames.com
SUMMARY:POJ Staff Meeting
DESCRIPTION:
URL:https://presbyteryofthejames.com/event/poj-staff-meeting-29/
LOCATION:Presbytery of the James\, 3218 Chamberlayne Ave.\, Richmond\, VA\, 23227\, United States
END:VEVENT
BEGIN:VEVENT
DTSTART;TZID=America/New_York:20240729T120000
DTEND;TZID=America/New_York:20240729T123000
DTSTAMP:20260422T050242
CREATED:20240711T172934Z
LAST-MODIFIED:20240711T172934Z
UID:14112-1722254400-1722256200@presbyteryofthejames.com
SUMMARY:Registration Deadline - Called Special Meeting
DESCRIPTION:
URL:https://presbyteryofthejames.com/event/registration-deadline-called-special-meeting/
END:VEVENT
BEGIN:VEVENT
DTSTART;TZID=America/New_York:20240724T103000
DTEND;TZID=America/New_York:20240724T143000
DTSTAMP:20260422T050242
CREATED:20240711T174050Z
LAST-MODIFIED:20240711T174050Z
UID:14121-1721817000-1721831400@presbyteryofthejames.com
SUMMARY:SDOP Workshop
DESCRIPTION:For more information about this event\, please go to https://presbyteryofthejames.com/ministries/sdop/
URL:https://presbyteryofthejames.com/event/sdop-workshop/
LOCATION:Presbytery of the James\, 3218 Chamberlayne Ave.\, Richmond\, VA\, 23227\, United States
END:VEVENT
BEGIN:VEVENT
DTSTART;TZID=America/New_York:20240723T130000
DTEND;TZID=America/New_York:20240723T153000
DTSTAMP:20260422T050242
CREATED:20230713T164144Z
LAST-MODIFIED:20230713T164144Z
UID:11180-1721739600-1721748600@presbyteryofthejames.com
SUMMARY:Committee on Preparation for Ministry (CPM)
DESCRIPTION:
URL:https://presbyteryofthejames.com/event/committee-on-preparation-for-ministry-cpm-42/
LOCATION:Presbytery of the James\, 3218 Chamberlayne Ave.\, Richmond\, VA\, 23227\, United States
END:VEVENT
BEGIN:VEVENT
DTSTART;TZID=America/New_York:20240723T110000
DTEND;TZID=America/New_York:20240723T123000
DTSTAMP:20260422T050242
CREATED:20240105T164647Z
LAST-MODIFIED:20240105T164647Z
UID:12745-1721732400-1721737800@presbyteryofthejames.com
SUMMARY:POJ Staff Meeting
DESCRIPTION:
URL:https://presbyteryofthejames.com/event/poj-staff-meeting-28/
LOCATION:Presbytery of the James\, 3218 Chamberlayne Ave.\, Richmond\, VA\, 23227\, United States
END:VEVENT
BEGIN:VEVENT
DTSTART;VALUE=DATE:20240718
DTEND;VALUE=DATE:20240719
DTSTAMP:20260422T050242
CREATED:20240712T175037Z
LAST-MODIFIED:20240712T175037Z
UID:14134-1721260800-1721347199@presbyteryofthejames.com
SUMMARY:Deadline for reports submission - Aug 15 special meeting
DESCRIPTION:
URL:https://presbyteryofthejames.com/event/deadline-for-reports-submission-aug-15-special-meeting/
END:VEVENT
BEGIN:VEVENT
DTSTART;TZID=America/New_York:20240717T100000
DTEND;TZID=America/New_York:20240717T123000
DTSTAMP:20260422T050242
CREATED:20230713T164036Z
LAST-MODIFIED:20230713T164036Z
UID:11178-1721210400-1721219400@presbyteryofthejames.com
SUMMARY:Mission Council and Trustees
DESCRIPTION:
URL:https://presbyteryofthejames.com/event/mission-council-and-trustees-14/
LOCATION:Presbytery of the James\, 3218 Chamberlayne Ave.\, Richmond\, VA\, 23227\, United States
END:VEVENT
BEGIN:VEVENT
DTSTART;TZID=America/New_York:20240716T110000
DTEND;TZID=America/New_York:20240716T123000
DTSTAMP:20260422T050242
CREATED:20240105T164518Z
LAST-MODIFIED:20240105T164518Z
UID:12743-1721127600-1721133000@presbyteryofthejames.com
SUMMARY:POJ Staff Meeting
DESCRIPTION:
URL:https://presbyteryofthejames.com/event/poj-staff-meeting-27/
LOCATION:Presbytery of the James\, 3218 Chamberlayne Ave.\, Richmond\, VA\, 23227\, United States
END:VEVENT
BEGIN:VEVENT
DTSTART;VALUE=DATE:20240716
DTEND;VALUE=DATE:20240717
DTSTAMP:20260422T050242
CREATED:20240711T172840Z
LAST-MODIFIED:20240711T172840Z
UID:14110-1721088000-1721174399@presbyteryofthejames.com
SUMMARY:Packet available for Called Special Meeting
DESCRIPTION:
URL:https://presbyteryofthejames.com/event/packet-available-for-called-special-meeting/
END:VEVENT
BEGIN:VEVENT
DTSTART;VALUE=DATE:20240715
DTEND;VALUE=DATE:20240716
DTSTAMP:20260422T050242
CREATED:20240606T184027Z
LAST-MODIFIED:20240606T184027Z
UID:13892-1721001600-1721087999@presbyteryofthejames.com
SUMMARY:Deadline for ordering Presbyterian Planning Calendars
DESCRIPTION:
URL:https://presbyteryofthejames.com/event/deadline-for-ordering-presbyterian-planning-calendars/
END:VEVENT
BEGIN:VEVENT
DTSTART;TZID=America/New_York:20240711T103000
DTEND;TZID=America/New_York:20240711T120000
DTSTAMP:20260422T050242
CREATED:20230713T163941Z
LAST-MODIFIED:20231215T173004Z
UID:11176-1720693800-1720699200@presbyteryofthejames.com
SUMMARY:Commission on Ministry (COM)
DESCRIPTION:
URL:https://presbyteryofthejames.com/event/commission-on-ministry-com-30/
LOCATION:Presbytery of the James\, 3218 Chamberlayne Ave.\, Richmond\, VA\, 23227\, United States
END:VEVENT
BEGIN:VEVENT
DTSTART;TZID=America/New_York:20240710T100000
DTEND;TZID=America/New_York:20240710T113000
DTSTAMP:20260422T050242
CREATED:20230713T163809Z
LAST-MODIFIED:20230713T163809Z
UID:11172-1720605600-1720611000@presbyteryofthejames.com
SUMMARY:Mission Council and Trustees Leadership
DESCRIPTION:
URL:https://presbyteryofthejames.com/event/mission-council-and-trustees-leadership-8/
END:VEVENT
BEGIN:VEVENT
DTSTART;TZID=America/New_York:20240709T130000
DTEND;TZID=America/New_York:20240709T140000
DTSTAMP:20260422T050242
CREATED:20230713T163731Z
LAST-MODIFIED:20230713T163731Z
UID:11170-1720530000-1720533600@presbyteryofthejames.com
SUMMARY:Committee on Nominations (CON)
DESCRIPTION:
URL:https://presbyteryofthejames.com/event/committee-on-nominations-con-38/
END:VEVENT
BEGIN:VEVENT
DTSTART;TZID=America/New_York:20240709T110000
DTEND;TZID=America/New_York:20240709T123000
DTSTAMP:20260422T050242
CREATED:20240105T164344Z
LAST-MODIFIED:20240105T164344Z
UID:12741-1720522800-1720528200@presbyteryofthejames.com
SUMMARY:POJ Staff Meeting
DESCRIPTION:
URL:https://presbyteryofthejames.com/event/poj-staff-meeting-26/
LOCATION:Presbytery of the James\, 3218 Chamberlayne Ave.\, Richmond\, VA\, 23227\, United States
END:VEVENT
BEGIN:VEVENT
DTSTART;VALUE=DATE:20240704
DTEND;VALUE=DATE:20240705
DTSTAMP:20260422T050242
CREATED:20230713T154715Z
LAST-MODIFIED:20230713T154715Z
UID:11088-1720051200-1720137599@presbyteryofthejames.com
SUMMARY:POJ Office Closed
DESCRIPTION:The office will be closed in observance of Independence Day.
URL:https://presbyteryofthejames.com/event/poj-office-closed-19/
END:VEVENT
BEGIN:VEVENT
DTSTART;TZID=America/New_York:20240703T103000
DTEND;TZID=America/New_York:20240703T120000
DTSTAMP:20260422T050242
CREATED:20240105T164127Z
LAST-MODIFIED:20240612T144521Z
UID:12739-1720002600-1720008000@presbyteryofthejames.com
SUMMARY:New Worshiping Communities Team (NWCT) on ZOOM
DESCRIPTION:
URL:https://presbyteryofthejames.com/event/new-worshiping-communities-team-nwct-7/
LOCATION:Zoom
END:VEVENT
END:VCALENDAR