BEGIN:VCALENDAR
VERSION:2.0
PRODID:-//Presbytery of the James - ECPv6.15.18//NONSGML v1.0//EN
CALSCALE:GREGORIAN
METHOD:PUBLISH
X-ORIGINAL-URL:https://presbyteryofthejames.com
X-WR-CALDESC:Events for Presbytery of the James
REFRESH-INTERVAL;VALUE=DURATION:PT1H
X-Robots-Tag:noindex
X-PUBLISHED-TTL:PT1H
BEGIN:VTIMEZONE
TZID:America/New_York
BEGIN:DAYLIGHT
TZOFFSETFROM:-0500
TZOFFSETTO:-0400
TZNAME:EDT
DTSTART:20240310T070000
END:DAYLIGHT
BEGIN:STANDARD
TZOFFSETFROM:-0400
TZOFFSETTO:-0500
TZNAME:EST
DTSTART:20241103T060000
END:STANDARD
BEGIN:DAYLIGHT
TZOFFSETFROM:-0500
TZOFFSETTO:-0400
TZNAME:EDT
DTSTART:20250309T070000
END:DAYLIGHT
BEGIN:STANDARD
TZOFFSETFROM:-0400
TZOFFSETTO:-0500
TZNAME:EST
DTSTART:20251102T060000
END:STANDARD
BEGIN:DAYLIGHT
TZOFFSETFROM:-0500
TZOFFSETTO:-0400
TZNAME:EDT
DTSTART:20260308T070000
END:DAYLIGHT
BEGIN:STANDARD
TZOFFSETFROM:-0400
TZOFFSETTO:-0500
TZNAME:EST
DTSTART:20261101T060000
END:STANDARD
END:VTIMEZONE
BEGIN:VEVENT
DTSTART;TZID=America/New_York:20250828T090000
DTEND;TZID=America/New_York:20250828T110000
DTSTAMP:20260421T164353
CREATED:20241115T200229Z
LAST-MODIFIED:20250811T152605Z
UID:14863-1756371600-1756378800@presbyteryofthejames.com
SUMMARY:Anti-Racism Committee (ARC)
DESCRIPTION:Virtual meeting to take place on Zoom.
URL:https://presbyteryofthejames.com/event/anti-racism-committee-arc-4/
LOCATION:Zoom
END:VEVENT
BEGIN:VEVENT
DTSTART;VALUE=DATE:20250901
DTEND;VALUE=DATE:20250902
DTSTAMP:20260421T164353
CREATED:20241115T200710Z
LAST-MODIFIED:20241115T200710Z
UID:14871-1756684800-1756771199@presbyteryofthejames.com
SUMMARY:POJ Office Closed
DESCRIPTION:Office closed in observance of Labor Day.
URL:https://presbyteryofthejames.com/event/poj-office-closed-27/
END:VEVENT
BEGIN:VEVENT
DTSTART;VALUE=DATE:20250902
DTEND;VALUE=DATE:20250903
DTSTAMP:20260421T164353
CREATED:20250804T140740Z
LAST-MODIFIED:20250804T141101Z
UID:16558-1756771200-1756857599@presbyteryofthejames.com
SUMMARY:CPM Deadline to submit materials for this month's meeting
DESCRIPTION:To allow time for review by committee members and to schedule interviews\, all Inquiry and Candidacy Application materials must be submitted digitally to cpm@presbyteryofthejames.org by the first Tuesday of the month to be considered for the agenda. \nThe Committee on Preparation for Ministry (CPM) meets on the fourth Tuesday of the month.
URL:https://presbyteryofthejames.com/event/sept-cpm-deadline/
END:VEVENT
BEGIN:VEVENT
DTSTART;TZID=America/New_York:20250902T080000
DTEND;TZID=America/New_York:20250902T170000
DTSTAMP:20260421T164353
CREATED:20250715T185648Z
LAST-MODIFIED:20250715T185648Z
UID:16475-1756800000-1756832400@presbyteryofthejames.com
SUMMARY:Sep CPM Deadline
DESCRIPTION:To allow time for review by committee members and to schedule interviews\, all Inquiry and Candidacy Application materials must be submitted digitally to cpm@presbyteryofthejames.org by the first Tuesday of the month to be considered for the agenda. \nThe Committee on Preparation for Ministry (CPM) meets on the fourth Tuesday of the month.
URL:https://presbyteryofthejames.com/event/sep-cpm-deadline/
END:VEVENT
BEGIN:VEVENT
DTSTART;TZID=America/New_York:20250903T120000
DTEND;TZID=America/New_York:20250903T140000
DTSTAMP:20260421T164353
CREATED:20241115T200758Z
LAST-MODIFIED:20250305T152025Z
UID:14873-1756900800-1756908000@presbyteryofthejames.com
SUMMARY:New Worshiping Communities Team (NWCT)
DESCRIPTION:
URL:https://presbyteryofthejames.com/event/new-worshiping-communities-team-nwct-19/
LOCATION:Presbytery of the James\, 3218 Chamberlayne Ave.\, Richmond\, VA\, 23227\, United States
END:VEVENT
BEGIN:VEVENT
DTSTART;TZID=America/New_York:20250904T113000
DTEND;TZID=America/New_York:20250904T130000
DTSTAMP:20260421T164353
CREATED:20241115T200840Z
LAST-MODIFIED:20241115T200840Z
UID:14875-1756985400-1756990800@presbyteryofthejames.com
SUMMARY:Commission on Ministry (COM) Moderators
DESCRIPTION:
URL:https://presbyteryofthejames.com/event/commission-on-ministry-com-moderators-13/
END:VEVENT
BEGIN:VEVENT
DTSTART;TZID=America/New_York:20250904T130000
DTEND;TZID=America/New_York:20250904T160000
DTSTAMP:20260421T164353
CREATED:20241115T200927Z
LAST-MODIFIED:20241115T200927Z
UID:14877-1756990800-1757001600@presbyteryofthejames.com
SUMMARY:Commission on Ministry (COM) Exams
DESCRIPTION:
URL:https://presbyteryofthejames.com/event/commission-on-ministry-com-exams-19/
END:VEVENT
BEGIN:VEVENT
DTSTART;TZID=America/New_York:20250908T090000
DTEND;TZID=America/New_York:20250908T150000
DTSTAMP:20260421T164353
CREATED:20250624T191201Z
LAST-MODIFIED:20250624T191201Z
UID:16270-1757322000-1757343600@presbyteryofthejames.com
SUMMARY:Self-Development of People Grassroots Workshop
DESCRIPTION:For more information visit https://presbyteryofthejames.com/ministries/sdop/
URL:https://presbyteryofthejames.com/event/self-development-of-people-grassroots-workshop/
LOCATION:Presbytery of the James\, 3218 Chamberlayne Ave.\, Richmond\, VA\, 23227\, United States
END:VEVENT
BEGIN:VEVENT
DTSTART;TZID=America/New_York:20250909T130000
DTEND;TZID=America/New_York:20250909T140000
DTSTAMP:20260421T164353
CREATED:20241115T201025Z
LAST-MODIFIED:20241115T201025Z
UID:14879-1757422800-1757426400@presbyteryofthejames.com
SUMMARY:Committee on Nominations (CON)
DESCRIPTION:
URL:https://presbyteryofthejames.com/event/committee-on-nominations-con-54/
END:VEVENT
BEGIN:VEVENT
DTSTART;VALUE=DATE:20250910
DTEND;VALUE=DATE:20250911
DTSTAMP:20260421T164353
CREATED:20241115T201125Z
LAST-MODIFIED:20241115T201125Z
UID:14881-1757462400-1757548799@presbyteryofthejames.com
SUMMARY:Deadline to request time on agenda at October Stated Meeting
DESCRIPTION:Please submit requests to statedclerk@presbyteryofthejames.org.
URL:https://presbyteryofthejames.com/event/deadline-to-request-time-on-agenda-at-october-stated-meeting/
END:VEVENT
BEGIN:VEVENT
DTSTART;TZID=America/New_York:20250911T103000
DTEND;TZID=America/New_York:20250911T120000
DTSTAMP:20260421T164353
CREATED:20241115T201251Z
LAST-MODIFIED:20241115T201251Z
UID:14885-1757586600-1757592000@presbyteryofthejames.com
SUMMARY:Commission on Ministry (COM)
DESCRIPTION:
URL:https://presbyteryofthejames.com/event/commission-on-ministry-com-43/
END:VEVENT
BEGIN:VEVENT
DTSTART;TZID=America/New_York:20250914T110000
DTEND;TZID=America/New_York:20250914T120000
DTSTAMP:20260421T164353
CREATED:20250711T200114Z
LAST-MODIFIED:20250711T200114Z
UID:16420-1757847600-1757851200@presbyteryofthejames.com
SUMMARY:Rev. Kerry Foster to preach at Mitchells Church
DESCRIPTION:
URL:https://presbyteryofthejames.com/event/rev-kerry-foster-to-preach-at-mitchells-church/
LOCATION:Mitchells Presbyterian Church\, 12229 Mitchells Rd\, Mitchells\, VA\, 22729\, United States
END:VEVENT
BEGIN:VEVENT
DTSTART;TZID=America/New_York:20250917T100000
DTEND;TZID=America/New_York:20250917T120000
DTSTAMP:20260421T164353
CREATED:20241115T201451Z
LAST-MODIFIED:20241115T201451Z
UID:14889-1758103200-1758110400@presbyteryofthejames.com
SUMMARY:Mission Council and Trustees
DESCRIPTION:
URL:https://presbyteryofthejames.com/event/mission-council-and-trustees-24/
LOCATION:Presbytery of the James\, 3218 Chamberlayne Ave.\, Richmond\, VA\, 23227\, United States
END:VEVENT
BEGIN:VEVENT
DTSTART;VALUE=DATE:20250918
DTEND;VALUE=DATE:20250919
DTSTAMP:20260421T164353
CREATED:20241115T201557Z
LAST-MODIFIED:20241115T201557Z
UID:14891-1758153600-1758239999@presbyteryofthejames.com
SUMMARY:Deadline to submit reports for October Stated Meeting
DESCRIPTION:Please submit reports to office@presbyteryofthejames.org.
URL:https://presbyteryofthejames.com/event/deadline-to-submit-reports-for-october-stated-meeting/
END:VEVENT
BEGIN:VEVENT
DTSTART;VALUE=DATE:20250918
DTEND;VALUE=DATE:20250919
DTSTAMP:20260421T164353
CREATED:20250805T155107Z
LAST-MODIFIED:20250903T151315Z
UID:16567-1758153600-1758239999@presbyteryofthejames.com
SUMMARY:Deadline: Oct COM materials submission
DESCRIPTION:To allow time for review\, all required forms\, including examination materials\, must be submitted to com@presbyteryofthejames.org by the third Thursday of the month for consideration at the following month’s meeting. \nThe Commission on Ministry (COM) committees meet on or by the first Thursday of each month.
URL:https://presbyteryofthejames.com/event/com-deadline-to-submit-materials-for-this-next-months-meeting/
END:VEVENT
BEGIN:VEVENT
DTSTART;VALUE=DATE:20250918
DTEND;VALUE=DATE:20250919
DTSTAMP:20260421T164353
CREATED:20250903T150653Z
LAST-MODIFIED:20250903T150808Z
UID:16683-1758153600-1758239999@presbyteryofthejames.com
SUMMARY:Deadline: Necrology Reports
DESCRIPTION:The Presbytery Office is seeking names of active and inactive ruling elders from your church who have died during September 2024 – August 2025.  It will be necessary for us to receive this information by Thursday\, September 18\, 2025\, to be part of the worship service at the October 18\, 2025\, stated meeting of the Presbytery. Please email your list to office@presbyteryofthejames.org. Thank you for your assistance in assembling the necrology report.
URL:https://presbyteryofthejames.com/event/necrology-report-deadline/
END:VEVENT
BEGIN:VEVENT
DTSTART;TZID=America/New_York:20250918T090000
DTEND;TZID=America/New_York:20250918T150000
DTSTAMP:20260421T164353
CREATED:20250624T191410Z
LAST-MODIFIED:20250909T152006Z
UID:16272-1758186000-1758207600@presbyteryofthejames.com
SUMMARY:Self-Development of People Grassroots Grant Workshop
DESCRIPTION:For more information visit https://presbyteryofthejames.com/ministries/sdop/
URL:https://presbyteryofthejames.com/event/self-development-of-people-grassroots-workshop-2/
LOCATION:Presbytery of the James\, 3218 Chamberlayne Ave.\, Richmond\, VA\, 23227\, United States
END:VEVENT
BEGIN:VEVENT
DTSTART;TZID=America/New_York:20250921T110000
DTEND;TZID=America/New_York:20250921T120000
DTSTAMP:20260421T164353
CREATED:20250711T200201Z
LAST-MODIFIED:20250711T200201Z
UID:16422-1758452400-1758456000@presbyteryofthejames.com
SUMMARY:Rev. Kerry Foster to preach at Burkeville Church
DESCRIPTION:
URL:https://presbyteryofthejames.com/event/rev-kerry-foster-to-preach-at-burkeville-church/
LOCATION:Burkeville Presbyterian Church\, 314 McLean St\, Burkeville\, VA\, 23922\, United States
END:VEVENT
BEGIN:VEVENT
DTSTART;TZID=America/New_York:20250923T130000
DTEND;TZID=America/New_York:20250923T153000
DTSTAMP:20260421T164353
CREATED:20241115T201633Z
LAST-MODIFIED:20241115T201633Z
UID:14893-1758632400-1758641400@presbyteryofthejames.com
SUMMARY:Committee on Preparation for Ministry (CPM)
DESCRIPTION:
URL:https://presbyteryofthejames.com/event/committee-on-preparation-for-ministry-cpm-52/
END:VEVENT
BEGIN:VEVENT
DTSTART;VALUE=DATE:20251001
DTEND;VALUE=DATE:20251002
DTSTAMP:20260421T164353
CREATED:20250624T191549Z
LAST-MODIFIED:20250909T191942Z
UID:16274-1759276800-1759363199@presbyteryofthejames.com
SUMMARY:Pastor Appreciation Month
DESCRIPTION:October is Pastor Appreciation Month – have you thanked a pastor today? \nNeed some ideas? https://www.pastorscenter.org/blog/25-ways-to-show-gratitude-to-your-pastor-for-pastor-appreciation-month/
URL:https://presbyteryofthejames.com/event/pastor-appreciation-month-2/
END:VEVENT
BEGIN:VEVENT
DTSTART;TZID=America/New_York:20251001T120000
DTEND;TZID=America/New_York:20251001T140000
DTSTAMP:20260421T164353
CREATED:20241115T201723Z
LAST-MODIFIED:20250305T152056Z
UID:14895-1759320000-1759327200@presbyteryofthejames.com
SUMMARY:New Worshiping Communities Team (NWCT)
DESCRIPTION:
URL:https://presbyteryofthejames.com/event/new-worshiping-communities-team-nwct-20/
LOCATION:Presbytery of the James\, 3218 Chamberlayne Ave.\, Richmond\, VA\, 23227\, United States
END:VEVENT
BEGIN:VEVENT
DTSTART;VALUE=DATE:20251002
DTEND;VALUE=DATE:20251003
DTSTAMP:20260421T164353
CREATED:20241115T201848Z
LAST-MODIFIED:20241115T201848Z
UID:14897-1759363200-1759449599@presbyteryofthejames.com
SUMMARY:Packet online for October Stated Meeting
DESCRIPTION:
URL:https://presbyteryofthejames.com/event/packet-online-for-october-stated-meeting-4/
END:VEVENT
BEGIN:VEVENT
DTSTART;TZID=America/New_York:20251002T113000
DTEND;TZID=America/New_York:20251002T130000
DTSTAMP:20260421T164353
CREATED:20241115T201935Z
LAST-MODIFIED:20241115T201935Z
UID:14899-1759404600-1759410000@presbyteryofthejames.com
SUMMARY:Commission on Ministry (COM) Moderators
DESCRIPTION:
URL:https://presbyteryofthejames.com/event/commission-on-ministry-com-moderators-14/
END:VEVENT
BEGIN:VEVENT
DTSTART;TZID=America/New_York:20251002T130000
DTEND;TZID=America/New_York:20251002T160000
DTSTAMP:20260421T164353
CREATED:20241115T202011Z
LAST-MODIFIED:20241115T202011Z
UID:14901-1759410000-1759420800@presbyteryofthejames.com
SUMMARY:Commission on Ministry (COM) Exams
DESCRIPTION:
URL:https://presbyteryofthejames.com/event/commission-on-ministry-com-exams-20/
END:VEVENT
BEGIN:VEVENT
DTSTART;VALUE=DATE:20251007
DTEND;VALUE=DATE:20251008
DTSTAMP:20260421T164353
CREATED:20250903T185449Z
LAST-MODIFIED:20250903T185449Z
UID:16691-1759795200-1759881599@presbyteryofthejames.com
SUMMARY:Deadline: CPM materials submission for this month’s meeting
DESCRIPTION:To allow time for review by committee members and to schedule interviews\, all Inquiry and Candidacy Application materials must be submitted digitally to cpm@presbyteryofthejames.org by the first Tuesday of the month to be considered for the agenda. \nThe Committee on Preparation for Ministry (CPM) meets on the fourth Tuesday of the month.
URL:https://presbyteryofthejames.com/event/deadline-cpm-materials-submission-for-this-months-meeting/
END:VEVENT
BEGIN:VEVENT
DTSTART;TZID=America/New_York:20251008T180000
DTEND;TZID=America/New_York:20251008T210000
DTSTAMP:20260421T164353
CREATED:20250929T135646Z
LAST-MODIFIED:20250929T135646Z
UID:16800-1759946400-1759957200@presbyteryofthejames.com
SUMMARY:Disaster Relief Volunteer Training
DESCRIPTION:For those who are new to missions with us and who are attending this month’s mission trip to Burnsville\, NC with POJ\, there is a mandatory training session from 6 pm to\n9 pm on October 8th\, at Brown Pearson’s home. It is a “working” meeting so please wear work clothes. It will familiarize you with how\nthings will go on the trip\, what you need to bring\, and safety.
URL:https://presbyteryofthejames.com/event/disaster-relief-volunteer-training/
ORGANIZER;CN="Disaster Relief Ministry":MAILTO:cbpearson3@erg-homes.com
END:VEVENT
BEGIN:VEVENT
DTSTART;TZID=America/New_York:20251009T103000
DTEND;TZID=America/New_York:20251009T120000
DTSTAMP:20260421T164353
CREATED:20241115T202435Z
LAST-MODIFIED:20241115T202435Z
UID:14907-1760005800-1760011200@presbyteryofthejames.com
SUMMARY:Commission on Ministry (COM)
DESCRIPTION:
URL:https://presbyteryofthejames.com/event/commission-on-ministry-com-44/
END:VEVENT
BEGIN:VEVENT
DTSTART;VALUE=DATE:20251012
DTEND;VALUE=DATE:20251013
DTSTAMP:20260421T164353
CREATED:20250909T151522Z
LAST-MODIFIED:20250909T191851Z
UID:16748-1760227200-1760313599@presbyteryofthejames.com
SUMMARY:Pastor Appreciation Day
DESCRIPTION:Have you thanked your pastor this month? \nNeed some ideas? https://www.pastorscenter.org/blog/25-ways-to-show-gratitude-to-your-pastor-for-pastor-appreciation-month/
URL:https://presbyteryofthejames.com/event/pastor-appreciation-day-2/
END:VEVENT
BEGIN:VEVENT
DTSTART;TZID=America/New_York:20251014T130000
DTEND;TZID=America/New_York:20251014T140000
DTSTAMP:20260421T164353
CREATED:20241115T202309Z
LAST-MODIFIED:20241115T202518Z
UID:14903-1760446800-1760450400@presbyteryofthejames.com
SUMMARY:Committee on Nominations (CON)
DESCRIPTION:
URL:https://presbyteryofthejames.com/event/committee-on-nominations-con-55/
END:VEVENT
BEGIN:VEVENT
DTSTART;TZID=America/New_York:20251015T100000
DTEND;TZID=America/New_York:20251015T120000
DTSTAMP:20260421T164353
CREATED:20241115T202631Z
LAST-MODIFIED:20241115T202631Z
UID:14909-1760522400-1760529600@presbyteryofthejames.com
SUMMARY:Mission Council
DESCRIPTION:
URL:https://presbyteryofthejames.com/event/mission-council-12/
LOCATION:Presbytery of the James\, 3218 Chamberlayne Ave.\, Richmond\, VA\, 23227\, United States
END:VEVENT
END:VCALENDAR