BEGIN:VCALENDAR
VERSION:2.0
PRODID:-//Presbytery of the James - ECPv6.15.18//NONSGML v1.0//EN
CALSCALE:GREGORIAN
METHOD:PUBLISH
X-ORIGINAL-URL:https://presbyteryofthejames.com
X-WR-CALDESC:Events for Presbytery of the James
REFRESH-INTERVAL;VALUE=DURATION:PT1H
X-Robots-Tag:noindex
X-PUBLISHED-TTL:PT1H
BEGIN:VTIMEZONE
TZID:America/New_York
BEGIN:DAYLIGHT
TZOFFSETFROM:-0500
TZOFFSETTO:-0400
TZNAME:EDT
DTSTART:20240310T070000
END:DAYLIGHT
BEGIN:STANDARD
TZOFFSETFROM:-0400
TZOFFSETTO:-0500
TZNAME:EST
DTSTART:20241103T060000
END:STANDARD
BEGIN:DAYLIGHT
TZOFFSETFROM:-0500
TZOFFSETTO:-0400
TZNAME:EDT
DTSTART:20250309T070000
END:DAYLIGHT
BEGIN:STANDARD
TZOFFSETFROM:-0400
TZOFFSETTO:-0500
TZNAME:EST
DTSTART:20251102T060000
END:STANDARD
BEGIN:DAYLIGHT
TZOFFSETFROM:-0500
TZOFFSETTO:-0400
TZNAME:EDT
DTSTART:20260308T070000
END:DAYLIGHT
BEGIN:STANDARD
TZOFFSETFROM:-0400
TZOFFSETTO:-0500
TZNAME:EST
DTSTART:20261101T060000
END:STANDARD
END:VTIMEZONE
BEGIN:VEVENT
DTSTART;VALUE=DATE:20251022
DTEND;VALUE=DATE:20251023
DTSTAMP:20260421T160333
CREATED:20251008T194220Z
LAST-MODIFIED:20251008T194321Z
UID:16866-1761091200-1761177599@presbyteryofthejames.com
SUMMARY:Deadline to Register for POJ Polity 101
DESCRIPTION:The POJ Leadership Connection Team is pleased to offer a new four-week course\, Presbyterian Polity 101\, designed for newly elected elders and deacons. \nVisit https://presbyteryofthejames.com/2024/02/10/training-events/ to register. \nCOURSE DETAILS \nFormat: Four weekly\, one-hour sessions held via Zoom. \nCurriculum: Spiritual leadership\, congregations & meetings\, ordered ministries\, and the Four Councils of the PCUSA. Each session includes a handout with practical questions and scenarios. \nInstructor: Carson Rhyne\, Instructor in Presbyterian Polity at Union Presbyterian Seminary for 20 years. \nSCHEDULE & REGISTRATION \nParticipants May Choose One Session: \nTuesdays: 7:30-8:30 PM on October 28\, November 4\, 11\, and 18 \nThursdays: 7:30-8:30 PM on October 30\, November 6\, 13\, and 20 \nCost: $50 per congregation (covers unlimited participants from one church). \nClass Cap: Each session is limited to 24 participants. \nREGISTER BELOW BY OCT. 22 \nBe sure to register participants from your church by Oct. 22. If your congregation needs to attend both sessions\, please register for both separately. Only one payment will be required per church\, even if you need to register participants for both sessions. \nQuestions? Contact Carson Rhyne.
URL:https://presbyteryofthejames.com/event/poj-polity-101-thursdays-class-begins/
LOCATION:VA
ORGANIZER;CN="Leadership Connection Team":MAILTO:carsonrhyne48@gmail.com
END:VEVENT
BEGIN:VEVENT
DTSTART;TZID=America/New_York:20251026T110000
DTEND;TZID=America/New_York:20251026T120000
DTSTAMP:20260421T160333
CREATED:20250711T200525Z
LAST-MODIFIED:20250711T200525Z
UID:16424-1761476400-1761480000@presbyteryofthejames.com
SUMMARY:Rev. Kerry Foster to preach at Hawkins Memorial Church
DESCRIPTION:
URL:https://presbyteryofthejames.com/event/rev-kerry-foster-to-preach-at-hawkins-memorial-church/
LOCATION:Hawkins Memorial Presbyterian Church\, 7816 White Oak Rd\, Ford\, VA\, 23850\, United States
END:VEVENT
BEGIN:VEVENT
DTSTART;TZID=America/New_York:20251028T130000
DTEND;TZID=America/New_York:20251028T153000
DTSTAMP:20260421T160333
CREATED:20241115T203005Z
LAST-MODIFIED:20241115T203005Z
UID:14915-1761656400-1761665400@presbyteryofthejames.com
SUMMARY:Committee on Preparation for Ministry (CPM)
DESCRIPTION:
URL:https://presbyteryofthejames.com/event/committee-on-preparation-for-ministry-cpm-53/
LOCATION:VA
END:VEVENT
BEGIN:VEVENT
DTSTART;TZID=America/New_York:20251028T193000
DTEND;TZID=America/New_York:20251028T203000
DTSTAMP:20260421T160333
CREATED:20251007T194623Z
LAST-MODIFIED:20251008T194040Z
UID:16857-1761679800-1761683400@presbyteryofthejames.com
SUMMARY:Polity 101 - Tuesday Class Begins
DESCRIPTION:The POJ Leadership Connection Team is pleased to offer a new four-week course\, Presbyterian Polity 101\, designed for newly elected elders and deacons. \nVisit https://presbyteryofthejames.com/2024/02/10/training-events/ to register. \n  \nCOURSE DETAILS \n\n\nFormat: Four weekly\, one-hour sessions held via Zoom. \n\n\nCurriculum: Spiritual leadership\, congregations & meetings\, ordered ministries\, and the Four Councils of the PCUSA. Each session includes a handout with practical questions and scenarios. \n\n\nInstructor: Carson Rhyne\, Instructor in Presbyterian Polity at Union Presbyterian Seminary for 20 years. \n\n\nSCHEDULE & REGISTRATION \n             Participants May Choose One Session: \n\n\n\n\nTuesdays: 7:30-8:30 PM on October 28\, November 4\, 11\, and 18 \n\n\nThursdays: 7:30-8:30 PM on October 30\, November 6\, 13\, and 20 \n\n\n\n\nCost: $50 per congregation (covers unlimited participants from one church). \n\n\nClass Cap: Each session is limited to 24 participants. \n\n\nREGISTER BELOW BY OCT. 22 \nBe sure to register participants from your church by Oct. 22. If your congregation needs to attend both sessions\, please register for both separately. Only one payment will be required per church\, even if you need to register participants for both sessions. \nQuestions? Contact Carson Rhyne.
URL:https://presbyteryofthejames.com/event/polity-101/
LOCATION:VA
ORGANIZER;CN="Leadership Connection Team":MAILTO:carsonrhyne48@gmail.com
END:VEVENT
BEGIN:VEVENT
DTSTART;TZID=America/New_York:20251030T100000
DTEND;TZID=America/New_York:20251030T160000
DTSTAMP:20260421T160333
CREATED:20251007T190714Z
LAST-MODIFIED:20251007T193249Z
UID:16850-1761818400-1761840000@presbyteryofthejames.com
SUMMARY:POJ Clean Up Day
DESCRIPTION:Volunteers needed! Please join us to clear out the POJ basement on Thursday\, Oct. 30\, 10 AM-4 PM. Lunch will be provided. Wear work clothes. Please sign up at https://forms.gle/XbE8NqQNVa3mdYz7A \nIf you have questions\, please reach out to office@presbyteryofthejames.org.
URL:https://presbyteryofthejames.com/event/poj-clean-up-day/
LOCATION:VA
END:VEVENT
BEGIN:VEVENT
DTSTART;TZID=America/New_York:20251030T183000
DTEND;TZID=America/New_York:20251030T194500
DTSTAMP:20260421T160333
CREATED:20251022T174431Z
LAST-MODIFIED:20251022T174431Z
UID:16927-1761849000-1761853500@presbyteryofthejames.com
SUMMARY:2026 Budget Listening Session
DESCRIPTION:Virtual listening session covering questions regarding the 2026 proposed budget. Links to join may be found in recent editions of the Current e-newsletter. A special called meeting of Presbytery of the James will convene via Zoom at 7:00 p.m. on Thursday\, November 13 to approve the 2026 budget.
URL:https://presbyteryofthejames.com/event/2026-budget-listening-session/
LOCATION:Zoom
END:VEVENT
BEGIN:VEVENT
DTSTART;TZID=America/New_York:20251030T193000
DTEND;TZID=America/New_York:20251030T203000
DTSTAMP:20260421T160333
CREATED:20251022T160616Z
LAST-MODIFIED:20251022T160616Z
UID:16925-1761852600-1761856200@presbyteryofthejames.com
SUMMARY:Polity 101 – Thursday Class Begins
DESCRIPTION:The POJ Leadership Connection Team is pleased to offer a new four-week course\, Presbyterian Polity 101\, designed for newly elected elders and deacons. \nVisit https://presbyteryofthejames.com/2024/02/10/training-events/ to register. \n  \nCOURSE DETAILS \n\n\nFormat: Four weekly\, one-hour sessions held via Zoom. \n\n\nCurriculum: Spiritual leadership\, congregations & meetings\, ordered ministries\, and the Four Councils of the PCUSA. Each session includes a handout with practical questions and scenarios. \n\n\nInstructor: Carson Rhyne\, Instructor in Presbyterian Polity at Union Presbyterian Seminary for 20 years. \n\n\nSCHEDULE & REGISTRATION \n             Participants May Choose One Session: \n\n\n\n\nTuesdays: 7:30-8:30 PM on October 28\, November 4\, 11\, and 18 \n\n\nThursdays: 7:30-8:30 PM on October 30\, November 6\, 13\, and 20 \n\n\n\n\nCost: $50 per congregation (covers unlimited participants from one church). \n\n\nClass Cap: Each session is limited to 24 participants. \n\n\nREGISTER at https://presbyteryofthejames.com/ BY OCT. 22 \nBe sure to register participants from your church by Oct. 22. If your congregation needs to attend both sessions\, please register for both separately. Only one payment will be required per church\, even if you need to register participants for both sessions. \nQuestions? Contact Carson Rhyne.
URL:https://presbyteryofthejames.com/event/polity-101-thursday-class-begins/
LOCATION:VA
ORGANIZER;CN="Leadership Connection Team":MAILTO:carsonrhyne48@gmail.com
END:VEVENT
BEGIN:VEVENT
DTSTART;TZID=America/New_York:20251103T183000
DTEND;TZID=America/New_York:20251103T194500
DTSTAMP:20260421T160333
CREATED:20251022T174530Z
LAST-MODIFIED:20251022T174530Z
UID:16929-1762194600-1762199100@presbyteryofthejames.com
SUMMARY:2026 Budget Listening Session
DESCRIPTION:Virtual listening session covering questions regarding the 2026 proposed budget. Links to join may be found in recent editions of the Current e-newsletter. A special called meeting of Presbytery of the James will convene via Zoom at 7:00 p.m. on Thursday\, November 13 to approve the 2026 budget.
URL:https://presbyteryofthejames.com/event/2026-budget-listening-session-2/
LOCATION:Zoom
END:VEVENT
BEGIN:VEVENT
DTSTART;VALUE=DATE:20251104
DTEND;VALUE=DATE:20251105
DTSTAMP:20260421T160333
CREATED:20250903T185555Z
LAST-MODIFIED:20250903T185555Z
UID:16693-1762214400-1762300799@presbyteryofthejames.com
SUMMARY:Deadline: CPM materials submission for this month’s meeting
DESCRIPTION:To allow time for review by committee members and to schedule interviews\, all Inquiry and Candidacy Application materials must be submitted digitally to cpm@presbyteryofthejames.org by the first Tuesday of the month to be considered for the agenda. \nThe Committee on Preparation for Ministry (CPM) meets on the fourth Tuesday of the month.
URL:https://presbyteryofthejames.com/event/deadline-cpm-materials-submission-for-this-months-meeting-2/
LOCATION:VA
END:VEVENT
BEGIN:VEVENT
DTSTART;TZID=America/New_York:20251105T120000
DTEND;TZID=America/New_York:20251105T140000
DTSTAMP:20260421T160333
CREATED:20241115T203053Z
LAST-MODIFIED:20250305T152141Z
UID:14917-1762344000-1762351200@presbyteryofthejames.com
SUMMARY:New Worshiping Communities Team (NWCT)
DESCRIPTION:
URL:https://presbyteryofthejames.com/event/new-worshiping-communities-team-nwct-21/
LOCATION:Presbytery of the James\, 3218 Chamberlayne Ave.\, Richmond\, VA\, 23227\, United States
END:VEVENT
BEGIN:VEVENT
DTSTART;TZID=America/New_York:20251106T113000
DTEND;TZID=America/New_York:20251106T130000
DTSTAMP:20260421T160333
CREATED:20241115T203135Z
LAST-MODIFIED:20241115T203135Z
UID:14919-1762428600-1762434000@presbyteryofthejames.com
SUMMARY:Commission on Ministry (COM) Moderators
DESCRIPTION:
URL:https://presbyteryofthejames.com/event/commission-on-ministry-com-moderators-15/
LOCATION:VA
END:VEVENT
BEGIN:VEVENT
DTSTART;TZID=America/New_York:20251106T130000
DTEND;TZID=America/New_York:20251106T160000
DTSTAMP:20260421T160333
CREATED:20241115T203235Z
LAST-MODIFIED:20241115T203235Z
UID:14921-1762434000-1762444800@presbyteryofthejames.com
SUMMARY:Commission on Ministry (COM) Exams
DESCRIPTION:
URL:https://presbyteryofthejames.com/event/commission-on-ministry-com-exams-21/
LOCATION:VA
END:VEVENT
BEGIN:VEVENT
DTSTART;TZID=America/New_York:20251111T130000
DTEND;TZID=America/New_York:20251111T140000
DTSTAMP:20260421T160333
CREATED:20241115T203341Z
LAST-MODIFIED:20241115T203341Z
UID:14923-1762866000-1762869600@presbyteryofthejames.com
SUMMARY:Committee on Nominations (CON)
DESCRIPTION:
URL:https://presbyteryofthejames.com/event/committee-on-nominations-con-56/
LOCATION:VA
END:VEVENT
BEGIN:VEVENT
DTSTART;TZID=America/New_York:20251112T120000
DTEND;TZID=America/New_York:20251112T120000
DTSTAMP:20260421T160333
CREATED:20251029T143939Z
LAST-MODIFIED:20251029T143939Z
UID:16967-1762948800-1762948800@presbyteryofthejames.com
SUMMARY:Registration Deadline for Called Meeting
DESCRIPTION:Registration closes at noon the day prior to presbytery meetings to give leadership a chance to review the list and prepare for the meeting. Please visit the Meetings page of the POJ website to register.
URL:https://presbyteryofthejames.com/event/registration-deadline-for-called-meeting/
LOCATION:VA
END:VEVENT
BEGIN:VEVENT
DTSTART;TZID=America/New_York:20251113T103000
DTEND;TZID=America/New_York:20251113T120000
DTSTAMP:20260421T160333
CREATED:20241115T204047Z
LAST-MODIFIED:20241115T204047Z
UID:14927-1763029800-1763035200@presbyteryofthejames.com
SUMMARY:Commission on Ministry (COM)
DESCRIPTION:
URL:https://presbyteryofthejames.com/event/commission-on-ministry-com-45/
LOCATION:VA
END:VEVENT
BEGIN:VEVENT
DTSTART;TZID=America/New_York:20251113T190000
DTEND;TZID=America/New_York:20251113T210000
DTSTAMP:20260421T160333
CREATED:20250903T191305Z
LAST-MODIFIED:20250903T191305Z
UID:16700-1763060400-1763067600@presbyteryofthejames.com
SUMMARY:Called Meeting of the Presbytery of the James
DESCRIPTION:A called meeting of the Presbytery has been set for Thursday\, November 13\, at 7:00 p.m. via Zoom to act on the 2026 budget.
URL:https://presbyteryofthejames.com/event/called-meeting-of-the-presbytery-of-the-james-2/
LOCATION:Zoom
END:VEVENT
BEGIN:VEVENT
DTSTART;TZID=America/New_York:20251119T100000
DTEND;TZID=America/New_York:20251119T120000
DTSTAMP:20260421T160333
CREATED:20241115T204227Z
LAST-MODIFIED:20241115T204227Z
UID:14932-1763546400-1763553600@presbyteryofthejames.com
SUMMARY:Mission Council and Trustees
DESCRIPTION:
URL:https://presbyteryofthejames.com/event/mission-council-and-trustees-25/
LOCATION:Presbytery of the James\, 3218 Chamberlayne Ave.\, Richmond\, VA\, 23227\, United States
END:VEVENT
BEGIN:VEVENT
DTSTART;VALUE=DATE:20251120
DTEND;VALUE=DATE:20251121
DTSTAMP:20260421T160333
CREATED:20250903T190212Z
LAST-MODIFIED:20250903T190212Z
UID:16697-1763596800-1763683199@presbyteryofthejames.com
SUMMARY:Deadline: Dec. COM materials submission
DESCRIPTION:To allow time for review\, all required forms\, including examination materials\, must be submitted to com@presbyteryofthejames.org by the third Thursday of the month for consideration at the following month’s meeting. \nThe Commission on Ministry (COM) committees meet on or by the first Thursday of each month.
URL:https://presbyteryofthejames.com/event/deadline-dec-com-materials-submission/
LOCATION:VA
END:VEVENT
BEGIN:VEVENT
DTSTART;TZID=America/New_York:20251120T110000
DTEND;TZID=America/New_York:20251120T150000
DTSTAMP:20260421T160333
CREATED:20250909T151839Z
LAST-MODIFIED:20250909T151839Z
UID:16753-1763636400-1763650800@presbyteryofthejames.com
SUMMARY:Self-Development of People Grassroots Grant Workshop
DESCRIPTION:For more information visit https://presbyteryofthejames.com/ministries/sdop/
URL:https://presbyteryofthejames.com/event/self-development-of-people-grassroots-grant-workshop/
LOCATION:VA
END:VEVENT
BEGIN:VEVENT
DTSTART;TZID=America/New_York:20251125T130000
DTEND;TZID=America/New_York:20251125T153000
DTSTAMP:20260421T160333
CREATED:20241115T204309Z
LAST-MODIFIED:20241115T204309Z
UID:14934-1764075600-1764084600@presbyteryofthejames.com
SUMMARY:Committee on Preparation for Ministry
DESCRIPTION:
URL:https://presbyteryofthejames.com/event/committee-on-preparation-for-ministry-7/
LOCATION:VA
END:VEVENT
BEGIN:VEVENT
DTSTART;VALUE=DATE:20251126
DTEND;VALUE=DATE:20251127
DTSTAMP:20260421T160333
CREATED:20251105T153223Z
LAST-MODIFIED:20251105T153223Z
UID:17052-1764115200-1764201599@presbyteryofthejames.com
SUMMARY:Close at Noon
DESCRIPTION:POJ Office closed from noon November 26 through 4 pm November 28 in observance of the Thanksgiving holiday.
URL:https://presbyteryofthejames.com/event/close-at-noon/
LOCATION:VA
END:VEVENT
BEGIN:VEVENT
DTSTART;VALUE=DATE:20251127
DTEND;VALUE=DATE:20251129
DTSTAMP:20260421T160333
CREATED:20241115T204438Z
LAST-MODIFIED:20251105T153625Z
UID:14936-1764201600-1764374399@presbyteryofthejames.com
SUMMARY:POJ Office Closed
DESCRIPTION:POJ Office closed from noon November 26 through 4 pm November 28 in observance of the Thanksgiving holiday.
URL:https://presbyteryofthejames.com/event/poj-office-closed-28/
LOCATION:VA
END:VEVENT
BEGIN:VEVENT
DTSTART;VALUE=DATE:20251202
DTEND;VALUE=DATE:20251203
DTSTAMP:20260421T160333
CREATED:20250804T141712Z
LAST-MODIFIED:20250903T151535Z
UID:16563-1764633600-1764719999@presbyteryofthejames.com
SUMMARY:Deadline: CPM materials submission for this month's meeting
DESCRIPTION:To allow time for review by committee members and to schedule interviews\, all Inquiry and Candidacy Application materials must be submitted digitally to cpm@presbyteryofthejames.org by the first Tuesday of the month to be considered for the agenda. \nThe Committee on Preparation for Ministry (CPM) meets on the fourth Tuesday of the month.
URL:https://presbyteryofthejames.com/event/com-deadline-to-submit-materials-for-next-months-meeting/
LOCATION:VA
END:VEVENT
BEGIN:VEVENT
DTSTART;TZID=America/New_York:20251203T120000
DTEND;TZID=America/New_York:20251203T140000
DTSTAMP:20260421T160333
CREATED:20241115T204554Z
LAST-MODIFIED:20250305T152212Z
UID:14938-1764763200-1764770400@presbyteryofthejames.com
SUMMARY:New Worshiping Communities Team (NWCT)
DESCRIPTION:
URL:https://presbyteryofthejames.com/event/new-worshiping-communities-team-nwct-22/
LOCATION:Presbytery of the James\, 3218 Chamberlayne Ave.\, Richmond\, VA\, 23227\, United States
END:VEVENT
BEGIN:VEVENT
DTSTART;TZID=America/New_York:20251204T113000
DTEND;TZID=America/New_York:20251204T130000
DTSTAMP:20260421T160333
CREATED:20241115T204642Z
LAST-MODIFIED:20241115T204642Z
UID:14940-1764847800-1764853200@presbyteryofthejames.com
SUMMARY:Commission on Ministry (COM) Moderators
DESCRIPTION:
URL:https://presbyteryofthejames.com/event/commission-on-ministry-com-moderators-16/
LOCATION:VA
END:VEVENT
BEGIN:VEVENT
DTSTART;TZID=America/New_York:20251204T130000
DTEND;TZID=America/New_York:20251204T160000
DTSTAMP:20260421T160333
CREATED:20241115T204714Z
LAST-MODIFIED:20241115T204714Z
UID:14942-1764853200-1764864000@presbyteryofthejames.com
SUMMARY:Commission on Ministry (COM) Exams
DESCRIPTION:
URL:https://presbyteryofthejames.com/event/commission-on-ministry-com-exams-22/
LOCATION:VA
END:VEVENT
BEGIN:VEVENT
DTSTART;TZID=America/New_York:20251208T110000
DTEND;TZID=America/New_York:20251208T143000
DTSTAMP:20260421T160333
CREATED:20241115T205114Z
LAST-MODIFIED:20251202T192427Z
UID:14950-1765191600-1765204200@presbyteryofthejames.com
SUMMARY:POJ Staff Christmas Luncheon
DESCRIPTION:
URL:https://presbyteryofthejames.com/event/poj-staff-christmas-luncheon/
LOCATION:VA
END:VEVENT
BEGIN:VEVENT
DTSTART;TZID=America/New_York:20251209T130000
DTEND;TZID=America/New_York:20251209T140000
DTSTAMP:20260421T160333
CREATED:20241115T204753Z
LAST-MODIFIED:20241115T204753Z
UID:14944-1765285200-1765288800@presbyteryofthejames.com
SUMMARY:Committee on Nominations (CON)
DESCRIPTION:
URL:https://presbyteryofthejames.com/event/committee-on-nominations-con-57/
LOCATION:VA
END:VEVENT
BEGIN:VEVENT
DTSTART;TZID=America/New_York:20251211T103000
DTEND;TZID=America/New_York:20251211T120000
DTSTAMP:20260421T160333
CREATED:20241115T204953Z
LAST-MODIFIED:20241115T204953Z
UID:14948-1765449000-1765454400@presbyteryofthejames.com
SUMMARY:Commission on Ministry (COM)
DESCRIPTION:
URL:https://presbyteryofthejames.com/event/commission-on-ministry-com-46/
LOCATION:VA
END:VEVENT
BEGIN:VEVENT
DTSTART;TZID=America/New_York:20251217T100000
DTEND;TZID=America/New_York:20251217T120000
DTSTAMP:20260421T160333
CREATED:20241115T205238Z
LAST-MODIFIED:20241115T205238Z
UID:14954-1765965600-1765972800@presbyteryofthejames.com
SUMMARY:Mission Council
DESCRIPTION:
URL:https://presbyteryofthejames.com/event/mission-council-13/
LOCATION:Presbytery of the James\, 3218 Chamberlayne Ave.\, Richmond\, VA\, 23227\, United States
END:VEVENT
END:VCALENDAR