BEGIN:VCALENDAR
VERSION:2.0
PRODID:-//Presbytery of the James - ECPv6.15.18//NONSGML v1.0//EN
CALSCALE:GREGORIAN
METHOD:PUBLISH
X-WR-CALNAME:Presbytery of the James
X-ORIGINAL-URL:https://presbyteryofthejames.com
X-WR-CALDESC:Events for Presbytery of the James
REFRESH-INTERVAL;VALUE=DURATION:PT1H
X-Robots-Tag:noindex
X-PUBLISHED-TTL:PT1H
BEGIN:VTIMEZONE
TZID:America/New_York
BEGIN:DAYLIGHT
TZOFFSETFROM:-0500
TZOFFSETTO:-0400
TZNAME:EDT
DTSTART:20240310T070000
END:DAYLIGHT
BEGIN:STANDARD
TZOFFSETFROM:-0400
TZOFFSETTO:-0500
TZNAME:EST
DTSTART:20241103T060000
END:STANDARD
BEGIN:DAYLIGHT
TZOFFSETFROM:-0500
TZOFFSETTO:-0400
TZNAME:EDT
DTSTART:20250309T070000
END:DAYLIGHT
BEGIN:STANDARD
TZOFFSETFROM:-0400
TZOFFSETTO:-0500
TZNAME:EST
DTSTART:20251102T060000
END:STANDARD
BEGIN:DAYLIGHT
TZOFFSETFROM:-0500
TZOFFSETTO:-0400
TZNAME:EDT
DTSTART:20260308T070000
END:DAYLIGHT
BEGIN:STANDARD
TZOFFSETFROM:-0400
TZOFFSETTO:-0500
TZNAME:EST
DTSTART:20261101T060000
END:STANDARD
END:VTIMEZONE
BEGIN:VEVENT
DTSTART;TZID=America/New_York:20250605T113000
DTEND;TZID=America/New_York:20250605T130000
DTSTAMP:20260421T140006
CREATED:20241115T192624Z
LAST-MODIFIED:20241115T192624Z
UID:14813-1749123000-1749128400@presbyteryofthejames.com
SUMMARY:Commission on Ministry (COM) Moderators
DESCRIPTION:
URL:https://presbyteryofthejames.com/event/commission-on-ministry-com-moderators-10/
LOCATION:VA
END:VEVENT
BEGIN:VEVENT
DTSTART;TZID=America/New_York:20250601T110000
DTEND;TZID=America/New_York:20250601T120000
DTSTAMP:20260421T140006
CREATED:20250522T154749Z
LAST-MODIFIED:20250522T154749Z
UID:16009-1748775600-1748779200@presbyteryofthejames.com
SUMMARY:Rev. Kerry Foster to preach at The Gayton Kirk
DESCRIPTION:
URL:https://presbyteryofthejames.com/event/rev-kerry-foster-to-preach-at-the-gayton-kirk/
LOCATION:Gayton Kirk\, 11421 Gayton Rd\, Henrico\, 23238
END:VEVENT
BEGIN:VEVENT
DTSTART;TZID=America/New_York:20250529T183000
DTEND;TZID=America/New_York:20250529T203000
DTSTAMP:20260421T140006
CREATED:20250502T141021Z
LAST-MODIFIED:20250502T142601Z
UID:15881-1748543400-1748550600@presbyteryofthejames.com
SUMMARY:Special Finance Group Listening Session
DESCRIPTION:These sessions offer an opportunity to bring your questions and comments and to gain a fuller understanding of the report ahead of the June 10 Presbytery meeting\, where it will be presented for action. We want to hear from you! Please contact the POJ office for login information. \nIf you are unable to attend\, written comments may be directed to the SFG moderator\, David Forney. We encourage your participation and feedback. \n 
URL:https://presbyteryofthejames.com/event/special-finance-group-listening-session-2/
LOCATION:Zoom
END:VEVENT
BEGIN:VEVENT
DTSTART;TZID=America/New_York:20250529T133000
DTEND;TZID=America/New_York:20250529T144500
DTSTAMP:20260421T140006
CREATED:20250502T150834Z
LAST-MODIFIED:20250502T150834Z
UID:15902-1748525400-1748529900@presbyteryofthejames.com
SUMMARY:Mission Council Listening Session
DESCRIPTION:Mission Council invites minister members and church leadership to listening sessions around the Presbytery of the James to build community and reflect on our life and ministry together as a mid-council. We are hoping to get to know our neighbors and learn more about what church leaders are hoping for as we prepare to call our next General Presbyter. \nPlease RSVP for each individual attending the below sessions\, and invite other leaders from your congregation and region to join us\, too! We invite you to bring your own dinner and arrive as early as 6 p.m. to enjoy one another’s company. \nSessions will be hosted by Colleen Earp (TE\, Massanetta Springs)\, Dave Thomen (RE\, Summit)\, and Joel Morgan (TE\, Member at Large). \nQuestions? Contact Colleen Earp.
URL:https://presbyteryofthejames.com/event/mission-council-listening-session-7/
LOCATION:Zoom
END:VEVENT
BEGIN:VEVENT
DTSTART;TZID=America/New_York:20250527T183000
DTEND;TZID=America/New_York:20250527T194500
DTSTAMP:20260421T140006
CREATED:20250502T150558Z
LAST-MODIFIED:20250502T150558Z
UID:15900-1748370600-1748375100@presbyteryofthejames.com
SUMMARY:Mission Council Listening Session
DESCRIPTION:Mission Council invites minister members and church leadership to listening sessions around the Presbytery of the James to build community and reflect on our life and ministry together as a mid-council. We are hoping to get to know our neighbors and learn more about what church leaders are hoping for as we prepare to call our next General Presbyter. \nPlease RSVP for each individual attending the below sessions\, and invite other leaders from your congregation and region to join us\, too! We invite you to bring your own dinner and arrive as early as 6 p.m. to enjoy one another’s company. \nSessions will be hosted by Colleen Earp (TE\, Massanetta Springs)\, Dave Thomen (RE\, Summit)\, and Joel Morgan (TE\, Member at Large). \nQuestions? Contact Colleen Earp.
URL:https://presbyteryofthejames.com/event/mission-council-listening-session-6/
LOCATION:South Plains Presbyterian Church\, 410 Black Cat Rd\, Keswick\, VA\, 22947\, United States
END:VEVENT
BEGIN:VEVENT
DTSTART;TZID=America/New_York:20250527T130000
DTEND;TZID=America/New_York:20250527T150000
DTSTAMP:20260421T140006
CREATED:20241115T192357Z
LAST-MODIFIED:20241115T192357Z
UID:14807-1748350800-1748358000@presbyteryofthejames.com
SUMMARY:Committee on Preparation for Ministry (CPM)
DESCRIPTION:
URL:https://presbyteryofthejames.com/event/committee-on-preparation-for-ministry-cpm-48/
LOCATION:VA
END:VEVENT
BEGIN:VEVENT
DTSTART;VALUE=DATE:20250527
DTEND;VALUE=DATE:20250528
DTSTAMP:20260421T140006
CREATED:20241115T192500Z
LAST-MODIFIED:20250219T202721Z
UID:14809-1748304000-1748390399@presbyteryofthejames.com
SUMMARY:Packet online for 120th Stated Meeting
DESCRIPTION:
URL:https://presbyteryofthejames.com/event/packet-online-for-220th-stated-meeting/
LOCATION:VA
END:VEVENT
BEGIN:VEVENT
DTSTART;VALUE=DATE:20250526
DTEND;VALUE=DATE:20250527
DTSTAMP:20260421T140006
CREATED:20241115T193437Z
LAST-MODIFIED:20241115T193437Z
UID:14827-1748217600-1748303999@presbyteryofthejames.com
SUMMARY:POJ Office Closed
DESCRIPTION:Office closed in observance of Memorial Day.
URL:https://presbyteryofthejames.com/event/poj-office-closed-25/
LOCATION:VA
END:VEVENT
BEGIN:VEVENT
DTSTART;TZID=America/New_York:20250525T110000
DTEND;TZID=America/New_York:20250525T130000
DTSTAMP:20260421T140006
CREATED:20250424T153457Z
LAST-MODIFIED:20250424T153457Z
UID:15831-1748170800-1748178000@presbyteryofthejames.com
SUMMARY:Rev. Kerry Foster to preach at Providence Church\, Powhatan
DESCRIPTION:Providence Presbyterian Church in Powhatan is celebrating their 200th Anniversary!
URL:https://presbyteryofthejames.com/event/rev-kerry-foster-to-preach-at-providence-church-powhatan/
LOCATION:Providence Presbyterian Church\, Powhatan\, 1950 Ridge Rd\, Powhatan\, VA\, 23139\, United States
END:VEVENT
BEGIN:VEVENT
DTSTART;VALUE=DATE:20250525
DTEND;VALUE=DATE:20250526
DTSTAMP:20260421T140006
CREATED:20250318T132448Z
LAST-MODIFIED:20250424T153530Z
UID:15547-1748131200-1748217599@presbyteryofthejames.com
SUMMARY:200th Anniversary - Providence Church\, Powhatan
DESCRIPTION:
URL:https://presbyteryofthejames.com/event/200th-anniversary-providence-church-powhatan/
LOCATION:Providence Presbyterian Church\, Powhatan\, 1950 Ridge Rd\, Powhatan\, VA\, 23139\, United States
END:VEVENT
BEGIN:VEVENT
DTSTART;TZID=America/New_York:20250522T183000
DTEND;TZID=America/New_York:20250522T194500
DTSTAMP:20260421T140006
CREATED:20250502T150309Z
LAST-MODIFIED:20250502T150309Z
UID:15897-1747938600-1747943100@presbyteryofthejames.com
SUMMARY:Mission Council Listening Session
DESCRIPTION:Mission Council invites minister members and church leadership to listening sessions around the Presbytery of the James to build community and reflect on our life and ministry together as a mid-council. We are hoping to get to know our neighbors and learn more about what church leaders are hoping for as we prepare to call our next General Presbyter. \nPlease RSVP for each individual attending the below sessions\, and invite other leaders from your congregation and region to join us\, too! We invite you to bring your own dinner and arrive as early as 6 p.m. to enjoy one another’s company. \nSessions will be hosted by Colleen Earp (TE\, Massanetta Springs)\, Dave Thomen (RE\, Summit)\, and Joel Morgan (TE\, Member at Large). \nQuestions? Contact Colleen Earp.
URL:https://presbyteryofthejames.com/event/mission-council-listening-session-5/
LOCATION:Ebenezer Presbyterian Church\, 118 Church St\, Kenbridge\, VA\, 23944\, United States
END:VEVENT
BEGIN:VEVENT
DTSTART;TZID=America/New_York:20250521T100000
DTEND;TZID=America/New_York:20250521T120000
DTSTAMP:20260421T140006
CREATED:20241115T192242Z
LAST-MODIFIED:20241115T192242Z
UID:14805-1747821600-1747828800@presbyteryofthejames.com
SUMMARY:Mission Council and Trustees
DESCRIPTION:
URL:https://presbyteryofthejames.com/event/mission-council-and-trustees-22/
LOCATION:Presbytery of the James\, 3218 Chamberlayne Ave.\, Richmond\, VA\, 23227\, United States
END:VEVENT
BEGIN:VEVENT
DTSTART;TZID=America/New_York:20250520T183000
DTEND;TZID=America/New_York:20250520T203000
DTSTAMP:20260421T140006
CREATED:20250502T140632Z
LAST-MODIFIED:20250502T142734Z
UID:15879-1747765800-1747773000@presbyteryofthejames.com
SUMMARY:Special Finance Group Listening Session
DESCRIPTION:These sessions offer an opportunity to bring your questions and comments and to gain a fuller understanding of the report ahead of the June 10 Presbytery meeting\, where it will be presented for action. We want to hear from you! Please contact the POJ office for login information. \nIf you are unable to attend\, written comments may be directed to the SFG moderator\, David Forney. We encourage your participation and feedback.
URL:https://presbyteryofthejames.com/event/special-finance-group-listening-session/
LOCATION:Zoom
END:VEVENT
BEGIN:VEVENT
DTSTART;TZID=America/New_York:20250520T133000
DTEND;TZID=America/New_York:20250520T150000
DTSTAMP:20260421T140006
CREATED:20241115T191959Z
LAST-MODIFIED:20241115T191959Z
UID:14801-1747747800-1747753200@presbyteryofthejames.com
SUMMARY:Anti-Racism Committee (ARC)
DESCRIPTION:
URL:https://presbyteryofthejames.com/event/anti-racism-committee-arc-2/
LOCATION:Presbytery of the James\, 3218 Chamberlayne Ave.\, Richmond\, VA\, 23227\, United States
END:VEVENT
BEGIN:VEVENT
DTSTART;TZID=America/New_York:20250519T183000
DTEND;TZID=America/New_York:20250519T194500
DTSTAMP:20260421T140006
CREATED:20250502T145803Z
LAST-MODIFIED:20250502T145803Z
UID:15895-1747679400-1747683900@presbyteryofthejames.com
SUMMARY:Mission Council Listening Session
DESCRIPTION:Mission Council invites minister members and church leadership to listening sessions around the Presbytery of the James to build community and reflect on our life and ministry together as a mid-council. We are hoping to get to know our neighbors and learn more about what church leaders are hoping for as we prepare to call our next General Presbyter. \nPlease RSVP for each individual attending the below sessions\, and invite other leaders from your congregation and region to join us\, too! We invite you to bring your own dinner and arrive as early as 6 p.m. to enjoy one another’s company. \nSessions will be hosted by Colleen Earp (TE\, Massanetta Springs)\, Dave Thomen (RE\, Summit)\, and Joel Morgan (TE\, Member at Large). \nQuestions? Contact Colleen Earp. \n 
URL:https://presbyteryofthejames.com/event/mission-council-listening-session-4/
LOCATION:Bon Air Church\, 9201 W Huguenot Rd\, Richmond\, 23235
END:VEVENT
BEGIN:VEVENT
DTSTART;TZID=America/New_York:20250518T110000
DTEND;TZID=America/New_York:20250518T120000
DTSTAMP:20260421T140006
CREATED:20250424T153241Z
LAST-MODIFIED:20250424T153241Z
UID:15829-1747566000-1747569600@presbyteryofthejames.com
SUMMARY:Rev. Kerry Foster to preach at Brett-Reed Memorial Church
DESCRIPTION:Brett-Reed Presbyterian Church is celebrating their 100th Anniversary!
URL:https://presbyteryofthejames.com/event/rev-kerry-foster-to-preach-at-brett-reed-memorial-church/
LOCATION:Brett-Reed Memorial Presbtyerian Church\, 29680 King William Rd\, West Point\, VA\, 23181\, United States
END:VEVENT
BEGIN:VEVENT
DTSTART;VALUE=DATE:20250518
DTEND;VALUE=DATE:20250519
DTSTAMP:20260421T140006
CREATED:20250305T150146Z
LAST-MODIFIED:20250305T150213Z
UID:15479-1747526400-1747612799@presbyteryofthejames.com
SUMMARY:100th Anniversary of Brett-Reed Memorial Church
DESCRIPTION:
URL:https://presbyteryofthejames.com/event/100th-anniversary-of-brett-reed-memorial-church/
LOCATION:Brett-Reed Memorial Presbtyerian Church\, 29680 King William Rd\, West Point\, VA\, 23181\, United States
END:VEVENT
BEGIN:VEVENT
DTSTART;TZID=America/New_York:20250515T183000
DTEND;TZID=America/New_York:20250515T194500
DTSTAMP:20260421T140006
CREATED:20250502T144220Z
LAST-MODIFIED:20250502T144220Z
UID:15892-1747333800-1747338300@presbyteryofthejames.com
SUMMARY:Mission Council Listening Session
DESCRIPTION:Mission Council invites minister members and church leadership to listening sessions around the Presbytery of the James to build community and reflect on our life and ministry together as a mid-council. We are hoping to get to know our neighbors and learn more about what church leaders are hoping for as we prepare to call our next General Presbyter. \nPlease RSVP for each individual attending the below sessions\, and invite other leaders from your congregation and region to join us\, too! We invite you to bring your own dinner and arrive as early as 6 p.m. to enjoy one another’s company. \nSessions will be hosted by Colleen Earp (TE\, Massanetta Springs)\, Dave Thomen (RE\, Summit)\, and Joel Morgan (TE\, Member at Large). \nQuestions? Contact Colleen Earp.
URL:https://presbyteryofthejames.com/event/mission-council-listening-session-3/
LOCATION:Milford Presbyterian Church\, 17283 Blatt Ave\, Milford\, VA\, 22514\, United States
END:VEVENT
BEGIN:VEVENT
DTSTART;TZID=America/New_York:20250514T090000
DTEND;TZID=America/New_York:20250514T103000
DTSTAMP:20260421T140006
CREATED:20241115T191615Z
LAST-MODIFIED:20250509T131534Z
UID:14793-1747213200-1747218600@presbyteryofthejames.com
SUMMARY:Commission on Ministry (COM)
DESCRIPTION:
URL:https://presbyteryofthejames.com/event/commission-on-ministry-com-40/
LOCATION:Zoom
END:VEVENT
BEGIN:VEVENT
DTSTART;TZID=America/New_York:20250513T180000
DTEND;TZID=America/New_York:20250513T193000
DTSTAMP:20260421T140006
CREATED:20250415T140408Z
LAST-MODIFIED:20250415T140408Z
UID:15760-1747159200-1747164600@presbyteryofthejames.com
SUMMARY:SDOP Grant Workshop
DESCRIPTION:Are you involved in a community growth project or program based on human dignity and self-reliance? \nAre you a working partner in a low income\, grass roots group searching for long-term solutions to the systemic problems that keep people poor and oppressed? \nIs the project or program controlled by those who will benefit from the collective effort? \nDoes the project or program you’re actively participating in empower you and others involved in it? \nCan you tell us why there is a need for additional funding? \nIf you answered yes to these questions and are interested in grant opportunities\, plan to attend the workshop on May 13 at 6 p.m. to learn more from the Presbyterian Committee on the Self Development of People grant application process by clicking here starting Apr. 29. \nLearn about qualifications and how to apply>
URL:https://presbyteryofthejames.com/event/sdop-grant-workshop-3/
LOCATION:Chesterfield County Central Library\, 7051 Lucy Corr Blvd.\, Chesterfield\, VA\, 23832
END:VEVENT
BEGIN:VEVENT
DTSTART;TZID=America/New_York:20250513T130000
DTEND;TZID=America/New_York:20250513T140000
DTSTAMP:20260421T140006
CREATED:20241115T191657Z
LAST-MODIFIED:20241115T191657Z
UID:14795-1747141200-1747144800@presbyteryofthejames.com
SUMMARY:Committee on Nominations (CON)
DESCRIPTION:
URL:https://presbyteryofthejames.com/event/committee-on-nominations-con-50/
LOCATION:VA
END:VEVENT
BEGIN:VEVENT
DTSTART;VALUE=DATE:20250513
DTEND;VALUE=DATE:20250514
DTSTAMP:20260421T140006
CREATED:20241115T192147Z
LAST-MODIFIED:20250423T175738Z
UID:14803-1747094400-1747180799@presbyteryofthejames.com
SUMMARY:Deadline to request time on agenda at June Stated Meeting
DESCRIPTION:Please email request to statedclerk@presbyteryofthejames.org.
URL:https://presbyteryofthejames.com/event/deadline-to-request-time-on-agenda-at-june-stated-meeting/
LOCATION:VA
END:VEVENT
BEGIN:VEVENT
DTSTART;VALUE=DATE:20250513
DTEND;VALUE=DATE:20250514
DTSTAMP:20260421T140006
CREATED:20241115T191913Z
LAST-MODIFIED:20250219T202905Z
UID:14799-1747094400-1747180799@presbyteryofthejames.com
SUMMARY:Deadline to submit reports for June Stated Meeting
DESCRIPTION:Please email to office@presbyteryofthejames.org.
URL:https://presbyteryofthejames.com/event/deadline-to-submit-reports-for-june-stated-meeting/
LOCATION:VA
END:VEVENT
BEGIN:VEVENT
DTSTART;TZID=America/New_York:20250512T183000
DTEND;TZID=America/New_York:20250512T194500
DTSTAMP:20260421T140006
CREATED:20250502T143756Z
LAST-MODIFIED:20250502T143756Z
UID:15890-1747074600-1747079100@presbyteryofthejames.com
SUMMARY:Mission Council Listening Session
DESCRIPTION:Mission Council invites minister members and church leadership to listening sessions around the Presbytery of the James to build community and reflect on our life and ministry together as a mid-council. We are hoping to get to know our neighbors and learn more about what church leaders are hoping for as we prepare to call our next General Presbyter. \nPlease RSVP for each individual attending the below sessions\, and invite other leaders from your congregation and region to join us\, too! We invite you to bring your own dinner and arrive as early as 6 p.m. to enjoy one another’s company. \nSessions will be hosted by Colleen Earp (TE\, Massanetta Springs)\, Dave Thomen (RE\, Summit)\, and Joel Morgan (TE\, Member at Large). \nQuestions? Contact Colleen Earp.
URL:https://presbyteryofthejames.com/event/mission-council-listening-session-2/
LOCATION:Zoom
END:VEVENT
BEGIN:VEVENT
DTSTART;VALUE=DATE:20250512
DTEND;VALUE=DATE:20250513
DTSTAMP:20260421T140006
CREATED:20250324T184720Z
LAST-MODIFIED:20250325T152500Z
UID:15579-1747008000-1747094399@presbyteryofthejames.com
SUMMARY:Deadline GA Commissioners & Alternates Nominations
DESCRIPTION:
URL:https://presbyteryofthejames.com/event/ga-commissioners-alternates-nominations-deadline/
LOCATION:VA
END:VEVENT
BEGIN:VEVENT
DTSTART;TZID=America/New_York:20250511T103000
DTEND;TZID=America/New_York:20250511T113000
DTSTAMP:20260421T140006
CREATED:20250424T152921Z
LAST-MODIFIED:20250424T152921Z
UID:15827-1746959400-1746963000@presbyteryofthejames.com
SUMMARY:Rev. Kerry Foster to preach at the Brandermill Church
DESCRIPTION:
URL:https://presbyteryofthejames.com/event/rev-kerry-foster-to-preach-at-the-brandermill-church/
LOCATION:The Brandermill Church\, 4500 Millridge Pkwy\, Midlothian\, VA\, 23113\, United States
END:VEVENT
BEGIN:VEVENT
DTSTART;TZID=America/New_York:20250507T183000
DTEND;TZID=America/New_York:20250507T194500
DTSTAMP:20260421T140006
CREATED:20250502T143344Z
LAST-MODIFIED:20250502T143344Z
UID:15888-1746642600-1746647100@presbyteryofthejames.com
SUMMARY:Mission Council Listening Session
DESCRIPTION:Mission Council invites minister members and church leadership to listening sessions around the Presbytery of the James to build community and reflect on our life and ministry together as a mid-council. We are hoping to get to know our neighbors and learn more about what church leaders are hoping for as we prepare to call our next General Presbyter. \nPlease RSVP for each individual attending the below sessions\, and invite other leaders from your congregation and region to join us\, too! We invite you to bring your own dinner and arrive as early as 6 p.m. to enjoy one another’s company. \nSessions will be hosted by Colleen Earp (TE\, Massanetta Springs)\, Dave Thomen (RE\, Summit)\, and Joel Morgan (TE\, Member at Large). \nQuestions? Contact Colleen Earp.
URL:https://presbyteryofthejames.com/event/mission-council-listening-session/
LOCATION:Bethlehem Presbyterian Church\, 2446 Old Church Rd\, Mechanicsville\, VA\, 23111\, United States
END:VEVENT
BEGIN:VEVENT
DTSTART;TZID=America/New_York:20250507T120000
DTEND;TZID=America/New_York:20250507T140000
DTSTAMP:20260421T140006
CREATED:20241115T191517Z
LAST-MODIFIED:20250305T151819Z
UID:14791-1746619200-1746626400@presbyteryofthejames.com
SUMMARY:New Worshiping Communities Team (NWCT)
DESCRIPTION:
URL:https://presbyteryofthejames.com/event/new-worshiping-communities-team-nwct-15/
LOCATION:Presbytery of the James\, 3218 Chamberlayne Ave.\, Richmond\, VA\, 23227\, United States
END:VEVENT
BEGIN:VEVENT
DTSTART;TZID=America/New_York:20250504T100000
DTEND;TZID=America/New_York:20250504T110000
DTSTAMP:20260421T140006
CREATED:20250305T145721Z
LAST-MODIFIED:20250305T145721Z
UID:15477-1746352800-1746356400@presbyteryofthejames.com
SUMMARY:Rev. Kerry Foster to preach at Tappahannock Church
DESCRIPTION:
URL:https://presbyteryofthejames.com/event/rev-kerry-foster-to-preach-at-tappahannock-church/
LOCATION:Tappahannock Presbyterian Church\, 204 Kino Road\, Tappahannock\, 22560\, United States
END:VEVENT
BEGIN:VEVENT
DTSTART;TZID=America/New_York:20250501T130000
DTEND;TZID=America/New_York:20250501T160000
DTSTAMP:20260421T140006
CREATED:20241115T191307Z
LAST-MODIFIED:20241115T191307Z
UID:14788-1746104400-1746115200@presbyteryofthejames.com
SUMMARY:Commission on Ministry (COM) Examinations
DESCRIPTION:
URL:https://presbyteryofthejames.com/event/commission-on-ministry-com-examinations-18/
LOCATION:VA
END:VEVENT
END:VCALENDAR