BEGIN:VCALENDAR
VERSION:2.0
PRODID:-//Presbytery of the James - ECPv6.15.18//NONSGML v1.0//EN
CALSCALE:GREGORIAN
METHOD:PUBLISH
X-WR-CALNAME:Presbytery of the James
X-ORIGINAL-URL:https://presbyteryofthejames.com
X-WR-CALDESC:Events for Presbytery of the James
REFRESH-INTERVAL;VALUE=DURATION:PT1H
X-Robots-Tag:noindex
X-PUBLISHED-TTL:PT1H
BEGIN:VTIMEZONE
TZID:America/New_York
BEGIN:DAYLIGHT
TZOFFSETFROM:-0500
TZOFFSETTO:-0400
TZNAME:EDT
DTSTART:20250309T070000
END:DAYLIGHT
BEGIN:STANDARD
TZOFFSETFROM:-0400
TZOFFSETTO:-0500
TZNAME:EST
DTSTART:20251102T060000
END:STANDARD
BEGIN:DAYLIGHT
TZOFFSETFROM:-0500
TZOFFSETTO:-0400
TZNAME:EDT
DTSTART:20260308T070000
END:DAYLIGHT
BEGIN:STANDARD
TZOFFSETFROM:-0400
TZOFFSETTO:-0500
TZNAME:EST
DTSTART:20261101T060000
END:STANDARD
BEGIN:DAYLIGHT
TZOFFSETFROM:-0500
TZOFFSETTO:-0400
TZNAME:EDT
DTSTART:20270314T070000
END:DAYLIGHT
BEGIN:STANDARD
TZOFFSETFROM:-0400
TZOFFSETTO:-0500
TZNAME:EST
DTSTART:20271107T060000
END:STANDARD
END:VTIMEZONE
BEGIN:VEVENT
DTSTART;VALUE=DATE:20261119
DTEND;VALUE=DATE:20261120
DTSTAMP:20260422T180026
CREATED:20251202T165516Z
LAST-MODIFIED:20251202T165516Z
UID:17186-1795046400-1795132799@presbyteryofthejames.com
SUMMARY:Deadline: Dec. COM materials submission
DESCRIPTION:To allow time for review\, all required forms\, including examination materials\, must be submitted to com@presbyteryofthejames.org by the third Thursday of the month for consideration at the following month’s meeting. \nThe Commission on Ministry (COM) committees meet on or by the first Thursday of each month.
URL:https://presbyteryofthejames.com/event/deadline-dec-com-materials-submission-2/
END:VEVENT
BEGIN:VEVENT
DTSTART;VALUE=DATE:20261201
DTEND;VALUE=DATE:20261202
DTSTAMP:20260422T180026
CREATED:20251202T185612Z
LAST-MODIFIED:20251202T185612Z
UID:17221-1796083200-1796169599@presbyteryofthejames.com
SUMMARY:Deadline: CPM materials submission for this month’s meeting
DESCRIPTION:To allow time for review by committee members and to schedule interviews\, all Inquiry and Candidacy Application materials must be submitted digitally to cpm@presbyteryofthejames.org by the first Tuesday of the month to be considered for the agenda at this month’s meeting. \nThe Committee on Preparation for Ministry (CPM) meets on the fourth Tuesday of the month.
URL:https://presbyteryofthejames.com/event/deadline-cpm-materials-submission-for-this-months-meeting-15/
END:VEVENT
BEGIN:VEVENT
DTSTART;TZID=America/New_York:20261202T130000
DTEND;TZID=America/New_York:20261202T143000
DTSTAMP:20260422T180026
CREATED:20260121T160601Z
LAST-MODIFIED:20260121T160601Z
UID:17447-1796216400-1796221800@presbyteryofthejames.com
SUMMARY:New Worshiping Communities Team (NWCT)
DESCRIPTION:
URL:https://presbyteryofthejames.com/event/new-worshiping-communities-team-nwct-27/
LOCATION:Presbytery of the James\, 3218 Chamberlayne Ave.\, Richmond\, VA\, 23227\, United States
END:VEVENT
BEGIN:VEVENT
DTSTART;VALUE=DATE:20261217
DTEND;VALUE=DATE:20261218
DTSTAMP:20260422T180026
CREATED:20251202T165641Z
LAST-MODIFIED:20251202T165641Z
UID:17188-1797465600-1797551999@presbyteryofthejames.com
SUMMARY:Deadline: Jan. COM materials submission
DESCRIPTION:To allow time for review\, all required forms\, including examination materials\, must be submitted to com@presbyteryofthejames.org by the third Thursday of the month for consideration at the following month’s meeting. \nThe Commission on Ministry (COM) committees meet on or by the first Thursday of each month.
URL:https://presbyteryofthejames.com/event/deadline-jan-com-materials-submission/
END:VEVENT
END:VCALENDAR