BEGIN:VCALENDAR
VERSION:2.0
PRODID:-//Presbytery of the James - ECPv6.15.18//NONSGML v1.0//EN
CALSCALE:GREGORIAN
METHOD:PUBLISH
X-WR-CALNAME:Presbytery of the James
X-ORIGINAL-URL:https://presbyteryofthejames.com
X-WR-CALDESC:Events for Presbytery of the James
REFRESH-INTERVAL;VALUE=DURATION:PT1H
X-Robots-Tag:noindex
X-PUBLISHED-TTL:PT1H
BEGIN:VTIMEZONE
TZID:America/New_York
BEGIN:DAYLIGHT
TZOFFSETFROM:-0500
TZOFFSETTO:-0400
TZNAME:EDT
DTSTART:20250309T070000
END:DAYLIGHT
BEGIN:STANDARD
TZOFFSETFROM:-0400
TZOFFSETTO:-0500
TZNAME:EST
DTSTART:20251102T060000
END:STANDARD
BEGIN:DAYLIGHT
TZOFFSETFROM:-0500
TZOFFSETTO:-0400
TZNAME:EDT
DTSTART:20260308T070000
END:DAYLIGHT
BEGIN:STANDARD
TZOFFSETFROM:-0400
TZOFFSETTO:-0500
TZNAME:EST
DTSTART:20261101T060000
END:STANDARD
BEGIN:DAYLIGHT
TZOFFSETFROM:-0500
TZOFFSETTO:-0400
TZNAME:EDT
DTSTART:20270314T070000
END:DAYLIGHT
BEGIN:STANDARD
TZOFFSETFROM:-0400
TZOFFSETTO:-0500
TZNAME:EST
DTSTART:20271107T060000
END:STANDARD
END:VTIMEZONE
BEGIN:VEVENT
DTSTART;TZID=America/New_York:20260517T153000
DTEND;TZID=America/New_York:20260517T173000
DTSTAMP:20260421T222605
CREATED:20260216T190356Z
LAST-MODIFIED:20260216T190356Z
UID:17575-1779031800-1779039000@presbyteryofthejames.com
SUMMARY:Clerk of Session Training
DESCRIPTION:POJ Clerk of Session Training will take place virtually. More details to come.
URL:https://presbyteryofthejames.com/event/clerk-of-session-training-3/
END:VEVENT
BEGIN:VEVENT
DTSTART;TZID=America/New_York:20260519T190000
DTEND;TZID=America/New_York:20260519T200000
DTSTAMP:20260421T222605
CREATED:20260113T163435Z
LAST-MODIFIED:20260113T163435Z
UID:17392-1779217200-1779220800@presbyteryofthejames.com
SUMMARY:Polity 101 Spring (3/4)
DESCRIPTION:The POJ Leadership Connection Team is pleased to offer a four-week course\, Presbyterian Polity 101\, designed for newly elected elders and deacons. \nCOURSE DETAILS \n\n\nFormat: Four weekly\, one-hour sessions held via Zoom. \n\n\nCurriculum: Spiritual leadership\, congregations & meetings\, ordered ministries\, and the Four Councils of the PCUSA. Each session includes a handout with practical questions and scenarios. \n\n\nInstructor: Carson Rhyne\, Instructor in Presbyterian Polity at Union Presbyterian Seminary for 20 years. \n\n\nSCHEDULE & REGISTRATION \n             Participants May Choose One Session: \n\n\n\n\nWinter/March: Thursdays\, March 5\, 12\, 19\, 26 7-8 PM\, via ZOOM\, 7-8 p.m. \n\nRegistration for the Winter course is February 1-28\n\n\n\nSpring/May: Tuesdays\, May 5\, 12\, 19\, 26\, via ZOOM\, 7-8 p.m. \n\n\nRegistration for Spring course is April 1-30 \n\n\n\n\n\n\nRegistration Links will appear on this page during above registration windows. \nCost: $50 per congregation (covers unlimited participants from one church). \nClass Cap: Each session is limited to 24 participants. Be sure to register participants from your church by the registration deadline. If your congregation needs to attend both sessions\, please register for both separately. Only one payment will be required per church\, even if you need to register participants for both sessions. \nQuestions? Contact Carson Rhyne at carsonrhyne48@gmail.com.
URL:https://presbyteryofthejames.com/event/polity-101-spring-3-4/
END:VEVENT
BEGIN:VEVENT
DTSTART;VALUE=DATE:20260520
DTEND;VALUE=DATE:20260521
DTSTAMP:20260421T222605
CREATED:20250509T193501Z
LAST-MODIFIED:20260331T184812Z
UID:15949-1779235200-1779321599@presbyteryofthejames.com
SUMMARY:Reports Deadline - June Stated Meeting
DESCRIPTION:Please submit reports to the Associate for Administration.
URL:https://presbyteryofthejames.com/event/reports-deadline-june-stated-meeting/
END:VEVENT
BEGIN:VEVENT
DTSTART;TZID=America/New_York:20260520T100000
DTEND;TZID=America/New_York:20260520T120000
DTSTAMP:20260421T222605
CREATED:20250509T193658Z
LAST-MODIFIED:20250509T193658Z
UID:15953-1779271200-1779278400@presbyteryofthejames.com
SUMMARY:Mission Council and Trustees
DESCRIPTION:
URL:https://presbyteryofthejames.com/event/mission-council-and-trustees-27/
LOCATION:Presbytery of the James\, 3218 Chamberlayne Ave.\, Richmond\, VA\, 23227\, United States
END:VEVENT
BEGIN:VEVENT
DTSTART;VALUE=DATE:20260521
DTEND;VALUE=DATE:20260522
DTSTAMP:20260421T222605
CREATED:20251202T164641Z
LAST-MODIFIED:20251202T164641Z
UID:17174-1779321600-1779407999@presbyteryofthejames.com
SUMMARY:Deadline: Jun. COM materials submission
DESCRIPTION:To allow time for review\, all required forms\, including examination materials\, must be submitted to com@presbyteryofthejames.org by the third Thursday of the month for consideration at the following month’s meeting. \nThe Commission on Ministry (COM) committees meet on or by the first Thursday of each month.
URL:https://presbyteryofthejames.com/event/deadline-jun-com-materials-submission/
END:VEVENT
BEGIN:VEVENT
DTSTART;VALUE=DATE:20260525
DTEND;VALUE=DATE:20260526
DTSTAMP:20260421T222605
CREATED:20250509T193752Z
LAST-MODIFIED:20250509T193752Z
UID:15955-1779667200-1779753599@presbyteryofthejames.com
SUMMARY:POJ Office Closed
DESCRIPTION:In observance of Memorial Day.
URL:https://presbyteryofthejames.com/event/poj-office-closed-30/
END:VEVENT
BEGIN:VEVENT
DTSTART;TZID=America/New_York:20260526T130000
DTEND;TZID=America/New_York:20260526T153000
DTSTAMP:20260421T222605
CREATED:20250509T193835Z
LAST-MODIFIED:20250509T193835Z
UID:15957-1779800400-1779809400@presbyteryofthejames.com
SUMMARY:Committee on Preparation for Ministry
DESCRIPTION:
URL:https://presbyteryofthejames.com/event/committee-on-preparation-for-ministry-8/
LOCATION:Presbytery of the James\, 3218 Chamberlayne Ave.\, Richmond\, VA\, 23227\, United States
END:VEVENT
BEGIN:VEVENT
DTSTART;TZID=America/New_York:20260526T190000
DTEND;TZID=America/New_York:20260526T200000
DTSTAMP:20260421T222605
CREATED:20260113T163214Z
LAST-MODIFIED:20260113T163214Z
UID:17390-1779822000-1779825600@presbyteryofthejames.com
SUMMARY:Polity 101 Spring (4/4)
DESCRIPTION:The POJ Leadership Connection Team is pleased to offer a four-week course\, Presbyterian Polity 101\, designed for newly elected elders and deacons. \nCOURSE DETAILS \n\n\nFormat: Four weekly\, one-hour sessions held via Zoom. \n\n\nCurriculum: Spiritual leadership\, congregations & meetings\, ordered ministries\, and the Four Councils of the PCUSA. Each session includes a handout with practical questions and scenarios. \n\n\nInstructor: Carson Rhyne\, Instructor in Presbyterian Polity at Union Presbyterian Seminary for 20 years. \n\n\nSCHEDULE & REGISTRATION \n             Participants May Choose One Session: \n\n\n\n\nWinter/March: Thursdays\, March 5\, 12\, 19\, 26 7-8 PM\, via ZOOM\, 7-8 p.m. \n\nRegistration for the Winter course is February 1-28\n\n\n\nSpring/May: Tuesdays\, May 5\, 12\, 19\, 26\, via ZOOM\, 7-8 p.m. \n\n\nRegistration for Spring course is April 1-30 \n\n\n\n\n\n\nRegistration Links will appear on this page during above registration windows. \nCost: $50 per congregation (covers unlimited participants from one church). \nClass Cap: Each session is limited to 24 participants. Be sure to register participants from your church by the registration deadline. If your congregation needs to attend both sessions\, please register for both separately. Only one payment will be required per church\, even if you need to register participants for both sessions. \nQuestions? Contact Carson Rhyne at carsonrhyne48@gmail.com.
URL:https://presbyteryofthejames.com/event/polity-101-spring-4-4/
END:VEVENT
BEGIN:VEVENT
DTSTART;VALUE=DATE:20260602
DTEND;VALUE=DATE:20260603
DTSTAMP:20260421T222605
CREATED:20251202T182328Z
LAST-MODIFIED:20251202T190902Z
UID:17207-1780358400-1780444799@presbyteryofthejames.com
SUMMARY:Deadline: CPM materials submission for this month’s meeting
DESCRIPTION:To allow time for review by committee members and to schedule interviews\, all Inquiry and Candidacy Application materials must be submitted digitally to cpm@presbyteryofthejames.org by the first Tuesday of the month to be considered for the agenda of this month’s meeting. \nThe Committee on Preparation for Ministry (CPM) meets on the fourth Tuesday of the month.
URL:https://presbyteryofthejames.com/event/deadline-cpm-materials-submission-for-this-months-meeting-9/
END:VEVENT
BEGIN:VEVENT
DTSTART;VALUE=DATE:20260603
DTEND;VALUE=DATE:20260604
DTSTAMP:20260421T222605
CREATED:20250509T193924Z
LAST-MODIFIED:20260331T184905Z
UID:15959-1780444800-1780531199@presbyteryofthejames.com
SUMMARY:Packet Online for June Stated Meeting
DESCRIPTION:
URL:https://presbyteryofthejames.com/event/packet-online-for-june-stated-meeting-2/
END:VEVENT
BEGIN:VEVENT
DTSTART;TZID=America/New_York:20260603T130000
DTEND;TZID=America/New_York:20260603T143000
DTSTAMP:20260421T222605
CREATED:20260121T160023Z
LAST-MODIFIED:20260121T160023Z
UID:17441-1780491600-1780497000@presbyteryofthejames.com
SUMMARY:New Worshiping Communities Team (NWCT)
DESCRIPTION:
URL:https://presbyteryofthejames.com/event/new-worshiping-communities-team-nwct-16/
LOCATION:Presbytery of the James\, 3218 Chamberlayne Ave.\, Richmond\, VA\, 23227\, United States
END:VEVENT
BEGIN:VEVENT
DTSTART;TZID=America/New_York:20260604T113000
DTEND;TZID=America/New_York:20260604T130000
DTSTAMP:20260421T222605
CREATED:20250509T194112Z
LAST-MODIFIED:20250509T194112Z
UID:15963-1780572600-1780578000@presbyteryofthejames.com
SUMMARY:Commission on Ministry (COM) Moderators
DESCRIPTION:
URL:https://presbyteryofthejames.com/event/commission-on-ministry-com-moderators-22/
LOCATION:Zoom
END:VEVENT
BEGIN:VEVENT
DTSTART;TZID=America/New_York:20260604T130000
DTEND;TZID=America/New_York:20260604T160000
DTSTAMP:20260421T222605
CREATED:20250509T194152Z
LAST-MODIFIED:20250509T194152Z
UID:15965-1780578000-1780588800@presbyteryofthejames.com
SUMMARY:Commission on Ministry (COM) Examinations
DESCRIPTION:
URL:https://presbyteryofthejames.com/event/commission-on-ministry-com-examinations-21/
LOCATION:Zoom
END:VEVENT
BEGIN:VEVENT
DTSTART;TZID=America/New_York:20260609T130000
DTEND;TZID=America/New_York:20260609T140000
DTSTAMP:20260421T222605
CREATED:20250509T194245Z
LAST-MODIFIED:20250509T194245Z
UID:15967-1781010000-1781013600@presbyteryofthejames.com
SUMMARY:Committee on Nominations (CON)
DESCRIPTION:
URL:https://presbyteryofthejames.com/event/committee-on-nominations-con-61/
LOCATION:Zoom
END:VEVENT
BEGIN:VEVENT
DTSTART;TZID=America/New_York:20260611T103000
DTEND;TZID=America/New_York:20260611T120000
DTSTAMP:20260421T222605
CREATED:20250509T194327Z
LAST-MODIFIED:20250509T194327Z
UID:15969-1781173800-1781179200@presbyteryofthejames.com
SUMMARY:Commission on Ministry (COM)
DESCRIPTION:
URL:https://presbyteryofthejames.com/event/commission-on-ministry-com-52/
LOCATION:Zoom
END:VEVENT
BEGIN:VEVENT
DTSTART;TZID=America/New_York:20260617T093000
DTEND;TZID=America/New_York:20260617T140000
DTSTAMP:20260421T222605
CREATED:20250509T194429Z
LAST-MODIFIED:20251029T171606Z
UID:15971-1781688600-1781704800@presbyteryofthejames.com
SUMMARY:123rd Stated Meeting of the POJ
DESCRIPTION:
URL:https://presbyteryofthejames.com/event/123rd-stated-meeting-of-the-poj/
END:VEVENT
BEGIN:VEVENT
DTSTART;TZID=America/New_York:20260617T100000
DTEND;TZID=America/New_York:20260617T120000
DTSTAMP:20260421T222605
CREATED:20250509T194508Z
LAST-MODIFIED:20250509T194508Z
UID:15973-1781690400-1781697600@presbyteryofthejames.com
SUMMARY:Mission Council
DESCRIPTION:
URL:https://presbyteryofthejames.com/event/mission-council-16/
LOCATION:Presbytery of the James\, 3218 Chamberlayne Ave.\, Richmond\, VA\, 23227\, United States
END:VEVENT
BEGIN:VEVENT
DTSTART;VALUE=DATE:20260618
DTEND;VALUE=DATE:20260619
DTSTAMP:20260421T222605
CREATED:20251202T164812Z
LAST-MODIFIED:20251202T164812Z
UID:17176-1781740800-1781827199@presbyteryofthejames.com
SUMMARY:Deadline: Jul. COM materials submission
DESCRIPTION:To allow time for review\, all required forms\, including examination materials\, must be submitted to com@presbyteryofthejames.org by the third Thursday of the month for consideration at the following month’s meeting. \nThe Commission on Ministry (COM) committees meet on or by the first Thursday of each month.
URL:https://presbyteryofthejames.com/event/deadline-jul-com-materials-submission/
END:VEVENT
BEGIN:VEVENT
DTSTART;VALUE=DATE:20260619
DTEND;VALUE=DATE:20260620
DTSTAMP:20260421T222605
CREATED:20250509T194601Z
LAST-MODIFIED:20250509T194601Z
UID:15975-1781827200-1781913599@presbyteryofthejames.com
SUMMARY:POJ Staff Holiday
DESCRIPTION:In honor of Juneteenth.
URL:https://presbyteryofthejames.com/event/poj-staff-holiday-2/
END:VEVENT
BEGIN:VEVENT
DTSTART;TZID=America/New_York:20260623T130000
DTEND;TZID=America/New_York:20260623T153000
DTSTAMP:20260421T222605
CREATED:20250509T194710Z
LAST-MODIFIED:20250509T194710Z
UID:15977-1782219600-1782228600@presbyteryofthejames.com
SUMMARY:Committee on Preparation for Ministry (CPM)
DESCRIPTION:
URL:https://presbyteryofthejames.com/event/committee-on-preparation-for-ministry-cpm-59/
LOCATION:Presbytery of the James\, 3218 Chamberlayne Ave.\, Richmond\, VA\, 23227\, United States
END:VEVENT
BEGIN:VEVENT
DTSTART;VALUE=DATE:20260707
DTEND;VALUE=DATE:20260708
DTSTAMP:20260421T222605
CREATED:20251202T182558Z
LAST-MODIFIED:20251202T190653Z
UID:17210-1783382400-1783468799@presbyteryofthejames.com
SUMMARY:Deadline: CPM materials submission for this month’s meeting
DESCRIPTION:To allow time for review by committee members and to schedule interviews\, all Inquiry and Candidacy Application materials must be submitted digitally to cpm@presbyteryofthejames.org by the first Tuesday of the month to be considered for the agenda of this month’s meeting. \nThe Committee on Preparation for Ministry (CPM) meets on the fourth Tuesday of the month.
URL:https://presbyteryofthejames.com/event/deadline-cpm-materials-submission-for-this-months-meeting-10/
END:VEVENT
BEGIN:VEVENT
DTSTART;VALUE=DATE:20260716
DTEND;VALUE=DATE:20260717
DTSTAMP:20260421T222605
CREATED:20251202T165006Z
LAST-MODIFIED:20251202T165006Z
UID:17178-1784160000-1784246399@presbyteryofthejames.com
SUMMARY:Deadline: Aug. COM materials submission
DESCRIPTION:To allow time for review\, all required forms\, including examination materials\, must be submitted to com@presbyteryofthejames.org by the third Thursday of the month for consideration at the following month’s meeting. \nThe Commission on Ministry (COM) committees meet on or by the first Thursday of each month.
URL:https://presbyteryofthejames.com/event/deadline-aug-com-materials-submission/
END:VEVENT
BEGIN:VEVENT
DTSTART;VALUE=DATE:20260804
DTEND;VALUE=DATE:20260805
DTSTAMP:20260421T222605
CREATED:20251202T182708Z
LAST-MODIFIED:20251202T190232Z
UID:17212-1785801600-1785887999@presbyteryofthejames.com
SUMMARY:Deadline: CPM materials submission for this month’s meeting
DESCRIPTION:To allow time for review by committee members and to schedule interviews\, all Inquiry and Candidacy Application materials must be submitted digitally to cpm@presbyteryofthejames.org by the first Tuesday of the month to be considered for the agenda for this month’s meeting. \nThe Committee on Preparation for Ministry (CPM) meets on the fourth Tuesday of the month.
URL:https://presbyteryofthejames.com/event/deadline-cpm-materials-submission-for-this-months-meeting-11/
END:VEVENT
BEGIN:VEVENT
DTSTART;TZID=America/New_York:20260805T130000
DTEND;TZID=America/New_York:20260805T143000
DTSTAMP:20260421T222605
CREATED:20260121T160328Z
LAST-MODIFIED:20260121T160328Z
UID:17443-1785934800-1785940200@presbyteryofthejames.com
SUMMARY:New Worshiping Communities Team (NWCT)
DESCRIPTION:
URL:https://presbyteryofthejames.com/event/new-worshiping-communities-team-nwct-23/
LOCATION:Presbytery of the James\, 3218 Chamberlayne Ave.\, Richmond\, VA\, 23227\, United States
END:VEVENT
BEGIN:VEVENT
DTSTART;VALUE=DATE:20260820
DTEND;VALUE=DATE:20260821
DTSTAMP:20260421T222605
CREATED:20251202T165147Z
LAST-MODIFIED:20251202T165147Z
UID:17180-1787184000-1787270399@presbyteryofthejames.com
SUMMARY:Deadline: Sep. COM materials submission
DESCRIPTION:To allow time for review\, all required forms\, including examination materials\, must be submitted to com@presbyteryofthejames.org by the third Thursday of the month for consideration at the following month’s meeting. \nThe Commission on Ministry (COM) committees meet on or by the first Thursday of each month.
URL:https://presbyteryofthejames.com/event/deadline-sep-com-materials-submission/
END:VEVENT
BEGIN:VEVENT
DTSTART;VALUE=DATE:20260901
DTEND;VALUE=DATE:20260902
DTSTAMP:20260421T222605
CREATED:20251202T185124Z
LAST-MODIFIED:20251202T185124Z
UID:17215-1788220800-1788307199@presbyteryofthejames.com
SUMMARY:Deadline: CPM materials submission for this month’s meeting
DESCRIPTION:To allow time for review by committee members and to schedule interviews\, all Inquiry and Candidacy Application materials must be submitted digitally to cpm@presbyteryofthejames.org by the first Tuesday of the month to be considered for the agenda at this month’s meeting. \nThe Committee on Preparation for Ministry (CPM) meets on the fourth Tuesday of the month.
URL:https://presbyteryofthejames.com/event/deadline-cpm-materials-submission-for-this-months-meeting-12/
END:VEVENT
BEGIN:VEVENT
DTSTART;VALUE=DATE:20260909
DTEND;VALUE=DATE:20260910
DTSTAMP:20260421T222605
CREATED:20260331T185104Z
LAST-MODIFIED:20260331T185104Z
UID:17717-1788912000-1788998399@presbyteryofthejames.com
SUMMARY:Deadline to Submit Time on Agenda Oct. Stated Meeting
DESCRIPTION:
URL:https://presbyteryofthejames.com/event/deadline-to-submit-time-on-agenda-oct-stated-meeting/
END:VEVENT
BEGIN:VEVENT
DTSTART;VALUE=DATE:20260917
DTEND;VALUE=DATE:20260918
DTSTAMP:20260421T222605
CREATED:20251202T165312Z
LAST-MODIFIED:20251202T165312Z
UID:17182-1789603200-1789689599@presbyteryofthejames.com
SUMMARY:Deadline: Oct. COM materials submission
DESCRIPTION:To allow time for review\, all required forms\, including examination materials\, must be submitted to com@presbyteryofthejames.org by the third Thursday of the month for consideration at the following month’s meeting. \nThe Commission on Ministry (COM) committees meet on or by the first Thursday of each month.
URL:https://presbyteryofthejames.com/event/deadline-oct-com-materials-submission-2/
END:VEVENT
BEGIN:VEVENT
DTSTART;VALUE=DATE:20261002
DTEND;VALUE=DATE:20261003
DTSTAMP:20260421T222605
CREATED:20260331T185308Z
LAST-MODIFIED:20260331T185308Z
UID:17720-1790899200-1790985599@presbyteryofthejames.com
SUMMARY:Meeting Packet Online
DESCRIPTION:
URL:https://presbyteryofthejames.com/event/meeting-packet-online-2/
END:VEVENT
BEGIN:VEVENT
DTSTART;VALUE=DATE:20261006
DTEND;VALUE=DATE:20261007
DTSTAMP:20260421T222605
CREATED:20251202T185218Z
LAST-MODIFIED:20251202T185218Z
UID:17217-1791244800-1791331199@presbyteryofthejames.com
SUMMARY:Deadline: CPM materials submission for this month’s meeting
DESCRIPTION:To allow time for review by committee members and to schedule interviews\, all Inquiry and Candidacy Application materials must be submitted digitally to cpm@presbyteryofthejames.org by the first Tuesday of the month to be considered for the agenda at this month’s meeting. \nThe Committee on Preparation for Ministry (CPM) meets on the fourth Tuesday of the month.
URL:https://presbyteryofthejames.com/event/deadline-cpm-materials-submission-for-this-months-meeting-13/
END:VEVENT
END:VCALENDAR