BEGIN:VCALENDAR
VERSION:2.0
PRODID:-//Presbytery of the James - ECPv6.15.18//NONSGML v1.0//EN
CALSCALE:GREGORIAN
METHOD:PUBLISH
X-WR-CALNAME:Presbytery of the James
X-ORIGINAL-URL:https://presbyteryofthejames.com
X-WR-CALDESC:Events for Presbytery of the James
REFRESH-INTERVAL;VALUE=DURATION:PT1H
X-Robots-Tag:noindex
X-PUBLISHED-TTL:PT1H
BEGIN:VTIMEZONE
TZID:America/New_York
BEGIN:DAYLIGHT
TZOFFSETFROM:-0500
TZOFFSETTO:-0400
TZNAME:EDT
DTSTART:20230312T070000
END:DAYLIGHT
BEGIN:STANDARD
TZOFFSETFROM:-0400
TZOFFSETTO:-0500
TZNAME:EST
DTSTART:20231105T060000
END:STANDARD
BEGIN:DAYLIGHT
TZOFFSETFROM:-0500
TZOFFSETTO:-0400
TZNAME:EDT
DTSTART:20240310T070000
END:DAYLIGHT
BEGIN:STANDARD
TZOFFSETFROM:-0400
TZOFFSETTO:-0500
TZNAME:EST
DTSTART:20241103T060000
END:STANDARD
BEGIN:DAYLIGHT
TZOFFSETFROM:-0500
TZOFFSETTO:-0400
TZNAME:EDT
DTSTART:20250309T070000
END:DAYLIGHT
BEGIN:STANDARD
TZOFFSETFROM:-0400
TZOFFSETTO:-0500
TZNAME:EST
DTSTART:20251102T060000
END:STANDARD
END:VTIMEZONE
BEGIN:VEVENT
DTSTART;VALUE=DATE:20241128
DTEND;VALUE=DATE:20241130
DTSTAMP:20260421T070340
CREATED:20230713T155030Z
LAST-MODIFIED:20230713T155030Z
UID:11092-1732752000-1732924799@presbyteryofthejames.com
SUMMARY:POJ Office Closed and Staff Holidays
DESCRIPTION:In observance of the Thanksgiving holiday.
URL:https://presbyteryofthejames.com/event/poj-office-closed-and-staff-holidays/
END:VEVENT
BEGIN:VEVENT
DTSTART;VALUE=DATE:20241127
DTEND;VALUE=DATE:20241128
DTSTAMP:20260421T070340
CREATED:20240808T183457Z
LAST-MODIFIED:20240808T183457Z
UID:14250-1732665600-1732751999@presbyteryofthejames.com
SUMMARY:POJ Office closes at noon
DESCRIPTION:
URL:https://presbyteryofthejames.com/event/poj-office-closes-at-noon/
END:VEVENT
BEGIN:VEVENT
DTSTART;TZID=America/New_York:20241126T130000
DTEND;TZID=America/New_York:20241126T153000
DTSTAMP:20260421T070340
CREATED:20240808T183407Z
LAST-MODIFIED:20240808T183407Z
UID:14248-1732626000-1732635000@presbyteryofthejames.com
SUMMARY:Committee on Preparation for Ministry (CPM)
DESCRIPTION:
URL:https://presbyteryofthejames.com/event/committee-on-preparation-for-ministry-cpm-44/
END:VEVENT
BEGIN:VEVENT
DTSTART;TZID=America/New_York:20241120T100000
DTEND;TZID=America/New_York:20241120T120000
DTSTAMP:20260421T070340
CREATED:20240808T183213Z
LAST-MODIFIED:20240808T183213Z
UID:14244-1732096800-1732104000@presbyteryofthejames.com
SUMMARY:Mission Council and Trustees
DESCRIPTION:
URL:https://presbyteryofthejames.com/event/mission-council-and-trustees-18/
END:VEVENT
BEGIN:VEVENT
DTSTART;TZID=America/New_York:20241119T190000
DTEND;TZID=America/New_York:20241119T200000
DTSTAMP:20260421T070340
CREATED:20240923T180101Z
LAST-MODIFIED:20240923T180101Z
UID:14521-1732042800-1732046400@presbyteryofthejames.com
SUMMARY:Called Special Meeting
DESCRIPTION:Called to approve the 2025 Budget; will be a virtual meeting.
URL:https://presbyteryofthejames.com/event/called-special-meeting/
LOCATION:Zoom
END:VEVENT
BEGIN:VEVENT
DTSTART;TZID=America/New_York:20241119T180000
DTEND;TZID=America/New_York:20241119T193000
DTSTAMP:20260421T070340
CREATED:20240808T185918Z
LAST-MODIFIED:20240808T185918Z
UID:14268-1732039200-1732044600@presbyteryofthejames.com
SUMMARY:SDOP Informational Event
DESCRIPTION:Learn about SDOP and its work on issues of poverty\, injustice\, and oppression.
URL:https://presbyteryofthejames.com/event/sdop-informational-event-2/
LOCATION:Central Library\, 7051 Lucy Corr Blvd\, Chesterfield\, Virginia\, 23832
END:VEVENT
BEGIN:VEVENT
DTSTART;TZID=America/New_York:20241119T133000
DTEND;TZID=America/New_York:20241119T150000
DTSTAMP:20260421T070340
CREATED:20241101T144409Z
LAST-MODIFIED:20241101T144409Z
UID:14670-1732023000-1732028400@presbyteryofthejames.com
SUMMARY:Anti-Racism Committee
DESCRIPTION:
URL:https://presbyteryofthejames.com/event/anti-racism-committee-6/
LOCATION:Presbytery of the James\, 3218 Chamberlayne Ave.\, Richmond\, VA\, 23227\, United States
END:VEVENT
BEGIN:VEVENT
DTSTART;TZID=America/New_York:20241118T120000
DTEND;TZID=America/New_York:20241118T120000
DTSTAMP:20260421T070340
CREATED:20241115T181707Z
LAST-MODIFIED:20241115T181707Z
UID:14770-1731931200-1731931200@presbyteryofthejames.com
SUMMARY:Registration Deadline for 11/19 Special Meeting
DESCRIPTION:
URL:https://presbyteryofthejames.com/event/registration-deadline-for-11-19-special-meeting/
END:VEVENT
BEGIN:VEVENT
DTSTART;TZID=America/New_York:20241114T103000
DTEND;TZID=America/New_York:20241114T120000
DTSTAMP:20260421T070340
CREATED:20240808T182933Z
LAST-MODIFIED:20240808T182933Z
UID:14240-1731580200-1731585600@presbyteryofthejames.com
SUMMARY:Commission on Ministry (COM)
DESCRIPTION:
URL:https://presbyteryofthejames.com/event/commission-on-ministry-com-34/
END:VEVENT
BEGIN:VEVENT
DTSTART;TZID=America/New_York:20241113T100000
DTEND;TZID=America/New_York:20241113T113000
DTSTAMP:20260421T070340
CREATED:20240808T182858Z
LAST-MODIFIED:20240808T182858Z
UID:14238-1731492000-1731497400@presbyteryofthejames.com
SUMMARY:Mission Council and Trustees leadership
DESCRIPTION:
URL:https://presbyteryofthejames.com/event/mission-council-and-trustees-leadership-14/
END:VEVENT
BEGIN:VEVENT
DTSTART;TZID=America/New_York:20241112T130000
DTEND;TZID=America/New_York:20241112T140000
DTSTAMP:20260421T070340
CREATED:20240808T182819Z
LAST-MODIFIED:20240808T182819Z
UID:14236-1731416400-1731420000@presbyteryofthejames.com
SUMMARY:Committee on Nominations (CON)
DESCRIPTION:
URL:https://presbyteryofthejames.com/event/committee-on-nominations-con-44/
END:VEVENT
BEGIN:VEVENT
DTSTART;TZID=America/New_York:20241107T190000
DTEND;TZID=America/New_York:20241107T200000
DTSTAMP:20260421T070340
CREATED:20240923T175953Z
LAST-MODIFIED:20240923T175953Z
UID:14519-1731006000-1731009600@presbyteryofthejames.com
SUMMARY:Budget Listening Session
DESCRIPTION:Meeting will take place virtually via Zoom.
URL:https://presbyteryofthejames.com/event/budget-listening-session-2/
LOCATION:Zoom
END:VEVENT
BEGIN:VEVENT
DTSTART;TZID=America/New_York:20241107T130000
DTEND;TZID=America/New_York:20241107T160000
DTSTAMP:20260421T070340
CREATED:20240808T182614Z
LAST-MODIFIED:20240808T182614Z
UID:14232-1730984400-1730995200@presbyteryofthejames.com
SUMMARY:Commission on Ministry (COM) Exams
DESCRIPTION:
URL:https://presbyteryofthejames.com/event/commission-on-ministry-com-exams-4/
END:VEVENT
BEGIN:VEVENT
DTSTART;TZID=America/New_York:20241107T113000
DTEND;TZID=America/New_York:20241107T130000
DTSTAMP:20260421T070340
CREATED:20240808T182535Z
LAST-MODIFIED:20240918T150442Z
UID:14230-1730979000-1730984400@presbyteryofthejames.com
SUMMARY:Commission on Ministry (COM) Moderators
DESCRIPTION:
URL:https://presbyteryofthejames.com/event/commission-on-ministry-com-moderators-4/
END:VEVENT
BEGIN:VEVENT
DTSTART;TZID=America/New_York:20241106T130000
DTEND;TZID=America/New_York:20241106T150000
DTSTAMP:20260421T070340
CREATED:20240808T182453Z
LAST-MODIFIED:20241004T151952Z
UID:14228-1730898000-1730905200@presbyteryofthejames.com
SUMMARY:New Worshiping Communities Team (NWCT)
DESCRIPTION:
URL:https://presbyteryofthejames.com/event/new-worshiping-communities-team-nwct-8/
LOCATION:Presbytery of the James\, 3218 Chamberlayne Ave.\, Richmond\, VA\, 23227\, United States
END:VEVENT
BEGIN:VEVENT
DTSTART;TZID=America/New_York:20241029T190000
DTEND;TZID=America/New_York:20241029T200000
DTSTAMP:20260421T070340
CREATED:20240923T175907Z
LAST-MODIFIED:20240923T175907Z
UID:14517-1730228400-1730232000@presbyteryofthejames.com
SUMMARY:Budget Listening Session
DESCRIPTION:Meeting will be virtual via Zoom.
URL:https://presbyteryofthejames.com/event/budget-listening-session/
LOCATION:Zoom
END:VEVENT
BEGIN:VEVENT
DTSTART;TZID=America/New_York:20241029T133000
DTEND;TZID=America/New_York:20241029T150000
DTSTAMP:20260421T070340
CREATED:20241011T200017Z
LAST-MODIFIED:20241011T200017Z
UID:14577-1730208600-1730214000@presbyteryofthejames.com
SUMMARY:Anti-Racism Committee
DESCRIPTION:
URL:https://presbyteryofthejames.com/event/anti-racism-committee-5/
LOCATION:Presbytery of the James\, 3218 Chamberlayne Ave.\, Richmond\, VA\, 23227\, United States
END:VEVENT
BEGIN:VEVENT
DTSTART;TZID=America/New_York:20241022T130000
DTEND;TZID=America/New_York:20241022T150000
DTSTAMP:20260421T070340
CREATED:20240108T194136Z
LAST-MODIFIED:20240108T194136Z
UID:12860-1729602000-1729609200@presbyteryofthejames.com
SUMMARY:Committee on Preparation for Ministry
DESCRIPTION:
URL:https://presbyteryofthejames.com/event/committee-on-preparation-for-ministry-5/
END:VEVENT
BEGIN:VEVENT
DTSTART;TZID=America/New_York:20241022T110000
DTEND;TZID=America/New_York:20241022T123000
DTSTAMP:20260421T070340
CREATED:20240108T194104Z
LAST-MODIFIED:20240108T194104Z
UID:12858-1729594800-1729600200@presbyteryofthejames.com
SUMMARY:POJ Staff Meeting
DESCRIPTION:
URL:https://presbyteryofthejames.com/event/poj-staff-meeting-41/
LOCATION:Presbytery of the James\, 3218 Chamberlayne Ave.\, Richmond\, VA\, 23227\, United States
END:VEVENT
BEGIN:VEVENT
DTSTART;TZID=America/New_York:20241019T093000
DTEND;TZID=America/New_York:20241019T140000
DTSTAMP:20260421T070340
CREATED:20240105T171535Z
LAST-MODIFIED:20240105T171535Z
UID:12783-1729330200-1729346400@presbyteryofthejames.com
SUMMARY:118th Stated Meeting of Presbytery of the James
DESCRIPTION:
URL:https://presbyteryofthejames.com/event/118th-stated-meeting-of-presbytery-of-the-james/
END:VEVENT
BEGIN:VEVENT
DTSTART;TZID=America/New_York:20241016T100000
DTEND;TZID=America/New_York:20241016T120000
DTSTAMP:20260421T070340
CREATED:20240108T193430Z
LAST-MODIFIED:20240108T193430Z
UID:12854-1729072800-1729080000@presbyteryofthejames.com
SUMMARY:Mission Council and Trustees
DESCRIPTION:
URL:https://presbyteryofthejames.com/event/mission-council-and-trustees-17/
LOCATION:Presbytery of the James\, 3218 Chamberlayne Ave.\, Richmond\, VA\, 23227\, United States
END:VEVENT
BEGIN:VEVENT
DTSTART;TZID=America/New_York:20241015T110000
DTEND;TZID=America/New_York:20241015T123000
DTSTAMP:20260421T070340
CREATED:20240108T193358Z
LAST-MODIFIED:20240108T193358Z
UID:12852-1728990000-1728995400@presbyteryofthejames.com
SUMMARY:POJ Staff Meeting
DESCRIPTION:
URL:https://presbyteryofthejames.com/event/poj-staff-meeting-40/
LOCATION:Presbytery of the James\, 3218 Chamberlayne Ave.\, Richmond\, VA\, 23227\, United States
END:VEVENT
BEGIN:VEVENT
DTSTART;TZID=America/New_York:20241013T110000
DTEND;TZID=America/New_York:20241013T120000
DTSTAMP:20260421T070340
CREATED:20240904T181453Z
LAST-MODIFIED:20240904T181453Z
UID:14444-1728817200-1728820800@presbyteryofthejames.com
SUMMARY:RE Barry Parks to preach
DESCRIPTION:
URL:https://presbyteryofthejames.com/event/re-barry-parks-to-preach-2/
LOCATION:Providence Presbyterian Church\, Powhatan\, 1950 Ridge Rd\, Powhatan\, VA\, 23139\, United States
END:VEVENT
BEGIN:VEVENT
DTSTART;TZID=America/New_York:20241010T103000
DTEND;TZID=America/New_York:20241010T120000
DTSTAMP:20260421T070340
CREATED:20240108T192819Z
LAST-MODIFIED:20240108T192819Z
UID:12850-1728556200-1728561600@presbyteryofthejames.com
SUMMARY:Commission on Ministry (COM)
DESCRIPTION:
URL:https://presbyteryofthejames.com/event/commission-on-ministry-com-33/
LOCATION:Presbytery of the James\, 3218 Chamberlayne Ave.\, Richmond\, VA\, 23227\, United States
END:VEVENT
BEGIN:VEVENT
DTSTART;TZID=America/New_York:20241009T100000
DTEND;TZID=America/New_York:20241009T110000
DTSTAMP:20260421T070340
CREATED:20240108T192743Z
LAST-MODIFIED:20240108T192743Z
UID:12848-1728468000-1728471600@presbyteryofthejames.com
SUMMARY:Mission Council and Trustees Leadership
DESCRIPTION:
URL:https://presbyteryofthejames.com/event/mission-council-and-trustees-leadership-13/
LOCATION:Zoom
END:VEVENT
BEGIN:VEVENT
DTSTART;TZID=America/New_York:20241008T130000
DTEND;TZID=America/New_York:20241008T140000
DTSTAMP:20260421T070340
CREATED:20240108T192536Z
LAST-MODIFIED:20240108T192536Z
UID:12846-1728392400-1728396000@presbyteryofthejames.com
SUMMARY:Committee on Nominations (CON)
DESCRIPTION:
URL:https://presbyteryofthejames.com/event/committee-on-nominations-con-41/
END:VEVENT
BEGIN:VEVENT
DTSTART;TZID=America/New_York:20241008T110000
DTEND;TZID=America/New_York:20241008T123000
DTSTAMP:20260421T070340
CREATED:20240108T192502Z
LAST-MODIFIED:20240108T192502Z
UID:12844-1728385200-1728390600@presbyteryofthejames.com
SUMMARY:POJ Staff Meeting
DESCRIPTION:
URL:https://presbyteryofthejames.com/event/poj-staff-meeting-39/
LOCATION:Presbytery of the James\, 3218 Chamberlayne Ave.\, Richmond\, VA\, 23227\, United States
END:VEVENT
BEGIN:VEVENT
DTSTART;TZID=America/New_York:20241007T133000
DTEND;TZID=America/New_York:20241007T150000
DTSTAMP:20260421T070340
CREATED:20240108T191112Z
LAST-MODIFIED:20241005T141614Z
UID:12842-1728307800-1728313200@presbyteryofthejames.com
SUMMARY:Commission on Ministry (COM) Examinations
DESCRIPTION:
URL:https://presbyteryofthejames.com/event/commission-on-ministry-com-examinations-16/
END:VEVENT
BEGIN:VEVENT
DTSTART;TZID=America/New_York:20241003T113000
DTEND;TZID=America/New_York:20241003T130000
DTSTAMP:20260421T070340
CREATED:20240108T191033Z
LAST-MODIFIED:20240918T150410Z
UID:12840-1727955000-1727960400@presbyteryofthejames.com
SUMMARY:Commission on Ministry (COM) Moderators
DESCRIPTION:
URL:https://presbyteryofthejames.com/event/commission-on-ministry-com-moderators-3/
END:VEVENT
BEGIN:VEVENT
DTSTART;VALUE=DATE:20241003
DTEND;VALUE=DATE:20241004
DTSTAMP:20260421T070340
CREATED:20240105T171413Z
LAST-MODIFIED:20240105T171413Z
UID:12781-1727913600-1727999999@presbyteryofthejames.com
SUMMARY:Packet online for October Stated Meeting
DESCRIPTION:
URL:https://presbyteryofthejames.com/event/packet-online-for-october-stated-meeting-3/
END:VEVENT
END:VCALENDAR