BEGIN:VCALENDAR
VERSION:2.0
PRODID:-//Presbytery of the James - ECPv6.15.18//NONSGML v1.0//EN
CALSCALE:GREGORIAN
METHOD:PUBLISH
X-ORIGINAL-URL:https://presbyteryofthejames.com
X-WR-CALDESC:Events for Presbytery of the James
REFRESH-INTERVAL;VALUE=DURATION:PT1H
X-Robots-Tag:noindex
X-PUBLISHED-TTL:PT1H
BEGIN:VTIMEZONE
TZID:America/New_York
BEGIN:DAYLIGHT
TZOFFSETFROM:-0500
TZOFFSETTO:-0400
TZNAME:EDT
DTSTART:20250309T070000
END:DAYLIGHT
BEGIN:STANDARD
TZOFFSETFROM:-0400
TZOFFSETTO:-0500
TZNAME:EST
DTSTART:20251102T060000
END:STANDARD
BEGIN:DAYLIGHT
TZOFFSETFROM:-0500
TZOFFSETTO:-0400
TZNAME:EDT
DTSTART:20260308T070000
END:DAYLIGHT
BEGIN:STANDARD
TZOFFSETFROM:-0400
TZOFFSETTO:-0500
TZNAME:EST
DTSTART:20261101T060000
END:STANDARD
BEGIN:DAYLIGHT
TZOFFSETFROM:-0500
TZOFFSETTO:-0400
TZNAME:EDT
DTSTART:20270314T070000
END:DAYLIGHT
BEGIN:STANDARD
TZOFFSETFROM:-0400
TZOFFSETTO:-0500
TZNAME:EST
DTSTART:20271107T060000
END:STANDARD
END:VTIMEZONE
BEGIN:VEVENT
DTSTART;TZID=America/New_York:20260512T130000
DTEND;TZID=America/New_York:20260512T140000
DTSTAMP:20260421T195431
CREATED:20250509T193117Z
LAST-MODIFIED:20250509T193117Z
UID:15943-1778590800-1778594400@presbyteryofthejames.com
SUMMARY:Committee on Nominations (CON)
DESCRIPTION:
URL:https://presbyteryofthejames.com/event/committee-on-nominations-con-60/
LOCATION:Zoom
END:VEVENT
BEGIN:VEVENT
DTSTART;TZID=America/New_York:20260512T184500
DTEND;TZID=America/New_York:20260512T210000
DTSTAMP:20260421T195431
CREATED:20260307T151844Z
LAST-MODIFIED:20260407T150325Z
UID:17725-1778611500-1778619600@presbyteryofthejames.com
SUMMARY:Called Meeting
DESCRIPTION:Visit https://presbyteryofthejames.com/events/month/2026-06/ for details.
URL:https://presbyteryofthejames.com/event/called-meeting/
END:VEVENT
BEGIN:VEVENT
DTSTART;TZID=America/New_York:20260512T190000
DTEND;TZID=America/New_York:20260512T200000
DTSTAMP:20260421T195431
CREATED:20260113T163550Z
LAST-MODIFIED:20260113T163550Z
UID:17394-1778612400-1778616000@presbyteryofthejames.com
SUMMARY:Polity 101 Spring (2/4)
DESCRIPTION:The POJ Leadership Connection Team is pleased to offer a four-week course\, Presbyterian Polity 101\, designed for newly elected elders and deacons. \nCOURSE DETAILS \n\n\nFormat: Four weekly\, one-hour sessions held via Zoom. \n\n\nCurriculum: Spiritual leadership\, congregations & meetings\, ordered ministries\, and the Four Councils of the PCUSA. Each session includes a handout with practical questions and scenarios. \n\n\nInstructor: Carson Rhyne\, Instructor in Presbyterian Polity at Union Presbyterian Seminary for 20 years. \n\n\nSCHEDULE & REGISTRATION \n             Participants May Choose One Session: \n\n\n\n\nWinter/March: Thursdays\, March 5\, 12\, 19\, 26 7-8 PM\, via ZOOM\, 7-8 p.m. \n\nRegistration for the Winter course is February 1-28\n\n\n\nSpring/May: Tuesdays\, May 5\, 12\, 19\, 26\, via ZOOM\, 7-8 p.m. \n\n\nRegistration for Spring course is April 1-30 \n\n\n\n\n\n\nRegistration Links will appear on this page during above registration windows. \nCost: $50 per congregation (covers unlimited participants from one church). \nClass Cap: Each session is limited to 24 participants. Be sure to register participants from your church by the registration deadline. If your congregation needs to attend both sessions\, please register for both separately. Only one payment will be required per church\, even if you need to register participants for both sessions. \nQuestions? Contact Carson Rhyne at carsonrhyne48@gmail.com.
URL:https://presbyteryofthejames.com/event/polity-101-spring-2-4/
END:VEVENT
END:VCALENDAR