BEGIN:VCALENDAR
VERSION:2.0
PRODID:-//Presbytery of the James - ECPv6.15.18//NONSGML v1.0//EN
CALSCALE:GREGORIAN
METHOD:PUBLISH
X-WR-CALNAME:Presbytery of the James
X-ORIGINAL-URL:https://presbyteryofthejames.com
X-WR-CALDESC:Events for Presbytery of the James
REFRESH-INTERVAL;VALUE=DURATION:PT1H
X-Robots-Tag:noindex
X-PUBLISHED-TTL:PT1H
BEGIN:VTIMEZONE
TZID:America/New_York
BEGIN:DAYLIGHT
TZOFFSETFROM:-0500
TZOFFSETTO:-0400
TZNAME:EDT
DTSTART:20250309T070000
END:DAYLIGHT
BEGIN:STANDARD
TZOFFSETFROM:-0400
TZOFFSETTO:-0500
TZNAME:EST
DTSTART:20251102T060000
END:STANDARD
BEGIN:DAYLIGHT
TZOFFSETFROM:-0500
TZOFFSETTO:-0400
TZNAME:EDT
DTSTART:20260308T070000
END:DAYLIGHT
BEGIN:STANDARD
TZOFFSETFROM:-0400
TZOFFSETTO:-0500
TZNAME:EST
DTSTART:20261101T060000
END:STANDARD
BEGIN:DAYLIGHT
TZOFFSETFROM:-0500
TZOFFSETTO:-0400
TZNAME:EDT
DTSTART:20270314T070000
END:DAYLIGHT
BEGIN:STANDARD
TZOFFSETFROM:-0400
TZOFFSETTO:-0500
TZNAME:EST
DTSTART:20271107T060000
END:STANDARD
END:VTIMEZONE
BEGIN:VEVENT
DTSTART;VALUE=DATE:20260505
DTEND;VALUE=DATE:20260506
DTSTAMP:20260421T194437
CREATED:20251202T171559Z
LAST-MODIFIED:20251202T171559Z
UID:17203-1777939200-1778025599@presbyteryofthejames.com
SUMMARY:Deadline: CPM materials submission for this month’s meeting
DESCRIPTION:To allow time for review by committee members and to schedule interviews\, all Inquiry and Candidacy Application materials must be submitted digitally to cpm@presbyteryofthejames.org by the first Tuesday of the month to be considered for the agenda at this month’s meeting. \nThe Committee on Preparation for Ministry (CPM) meets on the fourth Tuesday of the month.
URL:https://presbyteryofthejames.com/event/deadline-cpm-materials-submission-for-this-months-meeting-7/
END:VEVENT
BEGIN:VEVENT
DTSTART;TZID=America/New_York:20260505T183000
DTEND;TZID=America/New_York:20260505T193000
DTSTAMP:20260421T194437
CREATED:20260420T175050Z
LAST-MODIFIED:20260420T175050Z
UID:17864-1778005800-1778009400@presbyteryofthejames.com
SUMMARY:POJ Office Sale Listening Session (2/2)
DESCRIPTION:Join a listening session on Apr. 27 or May 5 from 6:30-7:30 p.m. to learn more about the sale of the POJ office building and share your questions and thoughts. The Zoom links will be shared soon in the Current.
URL:https://presbyteryofthejames.com/event/poj-office-sale-listening-session-2-2/
END:VEVENT
BEGIN:VEVENT
DTSTART;TZID=America/New_York:20260505T190000
DTEND;TZID=America/New_York:20260505T200000
DTSTAMP:20260421T194437
CREATED:20260113T163743Z
LAST-MODIFIED:20260113T163743Z
UID:17396-1778007600-1778011200@presbyteryofthejames.com
SUMMARY:Polity 101 Spring (1/4)
DESCRIPTION:The POJ Leadership Connection Team is pleased to offer a four-week course\, Presbyterian Polity 101\, designed for newly elected elders and deacons. \nCOURSE DETAILS \n\n\nFormat: Four weekly\, one-hour sessions held via Zoom. \n\n\nCurriculum: Spiritual leadership\, congregations & meetings\, ordered ministries\, and the Four Councils of the PCUSA. Each session includes a handout with practical questions and scenarios. \n\n\nInstructor: Carson Rhyne\, Instructor in Presbyterian Polity at Union Presbyterian Seminary for 20 years. \n\n\nSCHEDULE & REGISTRATION \n             Participants May Choose One Session: \n\n\n\n\nWinter/March: Thursdays\, March 5\, 12\, 19\, 26 7-8 PM\, via ZOOM\, 7-8 p.m. \n\nRegistration for the Winter course is February 1-28\n\n\n\nSpring/May: Tuesdays\, May 5\, 12\, 19\, 26\, via ZOOM\, 7-8 p.m. \n\n\nRegistration for Spring course is April 1-30 \n\n\n\n\n\n\nRegistration Links will appear on this page during above registration windows. \nCost: $50 per congregation (covers unlimited participants from one church). \nClass Cap: Each session is limited to 24 participants. Be sure to register participants from your church by the registration deadline. If your congregation needs to attend both sessions\, please register for both separately. Only one payment will be required per church\, even if you need to register participants for both sessions. \nQuestions? Contact Carson Rhyne at carsonrhyne48@gmail.com.
URL:https://presbyteryofthejames.com/event/polity-101-spring-1-4/
END:VEVENT
END:VCALENDAR