BEGIN:VCALENDAR
VERSION:2.0
PRODID:-//Presbytery of the James - ECPv6.15.18//NONSGML v1.0//EN
CALSCALE:GREGORIAN
METHOD:PUBLISH
X-ORIGINAL-URL:https://presbyteryofthejames.com
X-WR-CALDESC:Events for Presbytery of the James
REFRESH-INTERVAL;VALUE=DURATION:PT1H
X-Robots-Tag:noindex
X-PUBLISHED-TTL:PT1H
BEGIN:VTIMEZONE
TZID:America/New_York
BEGIN:DAYLIGHT
TZOFFSETFROM:-0500
TZOFFSETTO:-0400
TZNAME:EDT
DTSTART:20250309T070000
END:DAYLIGHT
BEGIN:STANDARD
TZOFFSETFROM:-0400
TZOFFSETTO:-0500
TZNAME:EST
DTSTART:20251102T060000
END:STANDARD
BEGIN:DAYLIGHT
TZOFFSETFROM:-0500
TZOFFSETTO:-0400
TZNAME:EDT
DTSTART:20260308T070000
END:DAYLIGHT
BEGIN:STANDARD
TZOFFSETFROM:-0400
TZOFFSETTO:-0500
TZNAME:EST
DTSTART:20261101T060000
END:STANDARD
BEGIN:DAYLIGHT
TZOFFSETFROM:-0500
TZOFFSETTO:-0400
TZNAME:EDT
DTSTART:20270314T070000
END:DAYLIGHT
BEGIN:STANDARD
TZOFFSETFROM:-0400
TZOFFSETTO:-0500
TZNAME:EST
DTSTART:20271107T060000
END:STANDARD
END:VTIMEZONE
BEGIN:VEVENT
DTSTART;TZID=America/New_York:20260428T130000
DTEND;TZID=America/New_York:20260428T153000
DTSTAMP:20260421T182716
CREATED:20250509T192733Z
LAST-MODIFIED:20250509T192733Z
UID:15935-1777381200-1777390200@presbyteryofthejames.com
SUMMARY:Committee on Preparation for Ministry (CPM)
DESCRIPTION:
URL:https://presbyteryofthejames.com/event/committee-on-preparation-for-ministry-cpm-58/
LOCATION:Presbytery of the James\, 3218 Chamberlayne Ave.\, Richmond\, VA\, 23227\, United States
END:VEVENT
BEGIN:VEVENT
DTSTART;TZID=America/New_York:20260428T180000
DTEND;TZID=America/New_York:20260428T193000
DTSTAMP:20260421T182716
CREATED:20260410T201913Z
LAST-MODIFIED:20260410T202019Z
UID:17777-1777399200-1777404600@presbyteryofthejames.com
SUMMARY:SDOP Community Grant Workshop
DESCRIPTION:Self Development of People (SDOP) is offering a Community Grant Workshop for those who want to learn more about funding possibilities. Please share with your networks and ministries! \nIs your grassroots group working to promote human dignity\, self-reliance\, and long-term solutions to poverty or oppression? If your project is led and controlled by those who benefit from it\, empowers participants\, and could use additional funding\, you may qualify for a grant. Attend one of our upcoming workshops to ask questions and see if you qualify. No denominational affiliation required. \nRegistration closes the day prior to the event. \n  \nVisit https://presbyteryofthejames.com/ministries/sdop/ for all details and to register or download a flyer.
URL:https://presbyteryofthejames.com/event/sdop-community-grant-workshop/
LOCATION:Mancheter Family YMCA\, 7540 Hull Street\, Chesterfield\, VA\, 23229\, United States
END:VEVENT
END:VCALENDAR