BEGIN:VCALENDAR
VERSION:2.0
PRODID:-//Presbytery of the James - ECPv6.15.18//NONSGML v1.0//EN
CALSCALE:GREGORIAN
METHOD:PUBLISH
X-ORIGINAL-URL:https://presbyteryofthejames.com
X-WR-CALDESC:Events for Presbytery of the James
REFRESH-INTERVAL;VALUE=DURATION:PT1H
X-Robots-Tag:noindex
X-PUBLISHED-TTL:PT1H
BEGIN:VTIMEZONE
TZID:America/New_York
BEGIN:DAYLIGHT
TZOFFSETFROM:-0500
TZOFFSETTO:-0400
TZNAME:EDT
DTSTART:20250309T070000
END:DAYLIGHT
BEGIN:STANDARD
TZOFFSETFROM:-0400
TZOFFSETTO:-0500
TZNAME:EST
DTSTART:20251102T060000
END:STANDARD
BEGIN:DAYLIGHT
TZOFFSETFROM:-0500
TZOFFSETTO:-0400
TZNAME:EDT
DTSTART:20260308T070000
END:DAYLIGHT
BEGIN:STANDARD
TZOFFSETFROM:-0400
TZOFFSETTO:-0500
TZNAME:EST
DTSTART:20261101T060000
END:STANDARD
BEGIN:DAYLIGHT
TZOFFSETFROM:-0500
TZOFFSETTO:-0400
TZNAME:EDT
DTSTART:20270314T070000
END:DAYLIGHT
BEGIN:STANDARD
TZOFFSETFROM:-0400
TZOFFSETTO:-0500
TZNAME:EST
DTSTART:20271107T060000
END:STANDARD
END:VTIMEZONE
BEGIN:VEVENT
DTSTART;VALUE=DATE:20260208
DTEND;VALUE=DATE:20260215
DTSTAMP:20260421T183603
CREATED:20260106T190920Z
LAST-MODIFIED:20260106T190920Z
UID:17330-1770508800-1771113599@presbyteryofthejames.com
SUMMARY:Disaster Relief Trip to Asheville\, NC
DESCRIPTION:POJ’s Disaster Relief Mission Team is organizing a disaster relief mission trip from Feb. 8- 14\, 2026\, to help rebuild homes in the Asheville\, NC area. This region was devastated by Hurricane Helene in late 2024. \nA small church in Asheville\, North Carolina\, has offered to host our team. The local presbytery has scoped out several skilled jobs for us to help them with\, all still left from Hurricane Helene. \nThe host church has room for up to 12 people to sleep at the church using air mattresses and or cots. We will be doing our own cooking\, so a volunteer cook would be wonderful. \nMore details to follow. \nThis is a chance to make a tangible difference. If interested\, email Brown Pearson ASAP. \nKey Details: \n\nWho: All skill levels are needed for manual labor; we also need a volunteer cook or cooks.\nWhere: Small Asheville church hosts; Various worksites in the Asheville area.\nNew Volunteers: Stay tuned for more details or reach out to Brown with questions.
URL:https://presbyteryofthejames.com/event/disaster-relief-trip-to-asheville-nc/
ORGANIZER;CN="Disaster Relief Ministry":MAILTO:cbpearson3@erg-homes.com
END:VEVENT
BEGIN:VEVENT
DTSTART;VALUE=DATE:20260212
DTEND;VALUE=DATE:20260213
DTSTAMP:20260421T183603
CREATED:20260106T191300Z
LAST-MODIFIED:20260106T191320Z
UID:17332-1770854400-1770940799@presbyteryofthejames.com
SUMMARY:Deadline: Submit slides/video to 2/21 Stated Meeting Zoom Host
DESCRIPTION:Feb. 12 is the deadline to submit slides/video presentations to 2/21 Stated Meeting Zoom Host
URL:https://presbyteryofthejames.com/event/deadline-submit-slides-video-to-2-21-stated-meeting-zoom-host/
END:VEVENT
BEGIN:VEVENT
DTSTART;TZID=America/New_York:20260212T103000
DTEND;TZID=America/New_York:20260212T120000
DTSTAMP:20260421T183603
CREATED:20250328T151423Z
LAST-MODIFIED:20250328T151423Z
UID:15640-1770892200-1770897600@presbyteryofthejames.com
SUMMARY:Commission on Ministry (COM)
DESCRIPTION:
URL:https://presbyteryofthejames.com/event/commission-on-ministry-com-48/
END:VEVENT
END:VCALENDAR