BEGIN:VCALENDAR
VERSION:2.0
PRODID:-//Presbytery of the James - ECPv6.15.18//NONSGML v1.0//EN
CALSCALE:GREGORIAN
METHOD:PUBLISH
X-WR-CALNAME:Presbytery of the James
X-ORIGINAL-URL:https://presbyteryofthejames.com
X-WR-CALDESC:Events for Presbytery of the James
REFRESH-INTERVAL;VALUE=DURATION:PT1H
X-Robots-Tag:noindex
X-PUBLISHED-TTL:PT1H
BEGIN:VTIMEZONE
TZID:America/New_York
BEGIN:DAYLIGHT
TZOFFSETFROM:-0500
TZOFFSETTO:-0400
TZNAME:EDT
DTSTART:20250309T070000
END:DAYLIGHT
BEGIN:STANDARD
TZOFFSETFROM:-0400
TZOFFSETTO:-0500
TZNAME:EST
DTSTART:20251102T060000
END:STANDARD
BEGIN:DAYLIGHT
TZOFFSETFROM:-0500
TZOFFSETTO:-0400
TZNAME:EDT
DTSTART:20260308T070000
END:DAYLIGHT
BEGIN:STANDARD
TZOFFSETFROM:-0400
TZOFFSETTO:-0500
TZNAME:EST
DTSTART:20261101T060000
END:STANDARD
BEGIN:DAYLIGHT
TZOFFSETFROM:-0500
TZOFFSETTO:-0400
TZNAME:EDT
DTSTART:20270314T070000
END:DAYLIGHT
BEGIN:STANDARD
TZOFFSETFROM:-0400
TZOFFSETTO:-0500
TZNAME:EST
DTSTART:20271107T060000
END:STANDARD
END:VTIMEZONE
BEGIN:VEVENT
DTSTART;VALUE=DATE:20260115
DTEND;VALUE=DATE:20260116
DTSTAMP:20260421T170027
CREATED:20251202T163357Z
LAST-MODIFIED:20251202T163357Z
UID:17166-1768435200-1768521599@presbyteryofthejames.com
SUMMARY:Deadline: Feb. COM materials submission
DESCRIPTION:To allow time for review\, all required forms\, including examination materials\, must be submitted to com@presbyteryofthejames.org by the third Thursday of the month for consideration at the following month’s meeting. \nThe Commission on Ministry (COM) committees meet on or by the first Thursday of each month.
URL:https://presbyteryofthejames.com/event/deadline-feb-com-materials-submission/
END:VEVENT
BEGIN:VEVENT
DTSTART;TZID=America/New_York:20260115T103000
DTEND;TZID=America/New_York:20260115T123000
DTSTAMP:20260421T170027
CREATED:20250328T150031Z
LAST-MODIFIED:20250328T150031Z
UID:15616-1768473000-1768480200@presbyteryofthejames.com
SUMMARY:Commission on Ministry (COM) Orientation & Meeting
DESCRIPTION:
URL:https://presbyteryofthejames.com/event/commission-on-ministry-com-orientation-meeting/
LOCATION:Presbytery of the James\, 3218 Chamberlayne Ave.\, Richmond\, VA\, 23227\, United States
END:VEVENT
END:VCALENDAR