BEGIN:VCALENDAR
VERSION:2.0
PRODID:-//Presbytery of the James - ECPv6.15.18//NONSGML v1.0//EN
CALSCALE:GREGORIAN
METHOD:PUBLISH
X-WR-CALNAME:Presbytery of the James
X-ORIGINAL-URL:https://presbyteryofthejames.com
X-WR-CALDESC:Events for Presbytery of the James
REFRESH-INTERVAL;VALUE=DURATION:PT1H
X-Robots-Tag:noindex
X-PUBLISHED-TTL:PT1H
BEGIN:VTIMEZONE
TZID:America/New_York
BEGIN:DAYLIGHT
TZOFFSETFROM:-0500
TZOFFSETTO:-0400
TZNAME:EDT
DTSTART:20250309T070000
END:DAYLIGHT
BEGIN:STANDARD
TZOFFSETFROM:-0400
TZOFFSETTO:-0500
TZNAME:EST
DTSTART:20251102T060000
END:STANDARD
BEGIN:DAYLIGHT
TZOFFSETFROM:-0500
TZOFFSETTO:-0400
TZNAME:EDT
DTSTART:20260308T070000
END:DAYLIGHT
BEGIN:STANDARD
TZOFFSETFROM:-0400
TZOFFSETTO:-0500
TZNAME:EST
DTSTART:20261101T060000
END:STANDARD
BEGIN:DAYLIGHT
TZOFFSETFROM:-0500
TZOFFSETTO:-0400
TZNAME:EDT
DTSTART:20270314T070000
END:DAYLIGHT
BEGIN:STANDARD
TZOFFSETFROM:-0400
TZOFFSETTO:-0500
TZNAME:EST
DTSTART:20271107T060000
END:STANDARD
END:VTIMEZONE
BEGIN:VEVENT
DTSTART;VALUE=DATE:20260114
DTEND;VALUE=DATE:20260115
DTSTAMP:20260421T170032
CREATED:20250328T150158Z
LAST-MODIFIED:20250328T150158Z
UID:15618-1768348800-1768435199@presbyteryofthejames.com
SUMMARY:Agenda Deadline - February Stated Meeting
DESCRIPTION:Deadline to request time on the February Stated Meeting Agenda – please email your request to the moderator and the stated clerk.
URL:https://presbyteryofthejames.com/event/agenda-deadline-february-stated-meeting/
END:VEVENT
BEGIN:VEVENT
DTSTART;TZID=America/New_York:20260114T183000
DTEND;TZID=America/New_York:20260114T203000
DTSTAMP:20260421T170032
CREATED:20251216T160935Z
LAST-MODIFIED:20260107T191356Z
UID:17251-1768415400-1768422600@presbyteryofthejames.com
SUMMARY:Listening Session: Manual of Admin Operations
DESCRIPTION:Please join us for a listening session on Jan. 8 at 6:30 p.m. or Jan. 14 at 6:30 p.m. to share feedback on the POJ Manual of Administrative Operations. \nThis document guides how we approach our work and life together. Input from these sessions will help shape edits to the document that is presented for approval at the February Presbytery meeting. \nJoin Jan. 14 Listening Session via Zoom.
URL:https://presbyteryofthejames.com/event/listening-session-manual-of-admin-operations/
END:VEVENT
END:VCALENDAR