BEGIN:VCALENDAR
VERSION:2.0
PRODID:-//Presbytery of the James - ECPv6.15.18//NONSGML v1.0//EN
CALSCALE:GREGORIAN
METHOD:PUBLISH
X-ORIGINAL-URL:https://presbyteryofthejames.com
X-WR-CALDESC:Events for Presbytery of the James
REFRESH-INTERVAL;VALUE=DURATION:PT1H
X-Robots-Tag:noindex
X-PUBLISHED-TTL:PT1H
BEGIN:VTIMEZONE
TZID:America/New_York
BEGIN:DAYLIGHT
TZOFFSETFROM:-0500
TZOFFSETTO:-0400
TZNAME:EDT
DTSTART:20240310T070000
END:DAYLIGHT
BEGIN:STANDARD
TZOFFSETFROM:-0400
TZOFFSETTO:-0500
TZNAME:EST
DTSTART:20241103T060000
END:STANDARD
BEGIN:DAYLIGHT
TZOFFSETFROM:-0500
TZOFFSETTO:-0400
TZNAME:EDT
DTSTART:20250309T070000
END:DAYLIGHT
BEGIN:STANDARD
TZOFFSETFROM:-0400
TZOFFSETTO:-0500
TZNAME:EST
DTSTART:20251102T060000
END:STANDARD
BEGIN:DAYLIGHT
TZOFFSETFROM:-0500
TZOFFSETTO:-0400
TZNAME:EDT
DTSTART:20260308T070000
END:DAYLIGHT
BEGIN:STANDARD
TZOFFSETFROM:-0400
TZOFFSETTO:-0500
TZNAME:EST
DTSTART:20261101T060000
END:STANDARD
END:VTIMEZONE
BEGIN:VEVENT
DTSTART;VALUE=DATE:20250821
DTEND;VALUE=DATE:20250822
DTSTAMP:20260421T075334
CREATED:20241115T200528Z
LAST-MODIFIED:20241115T200528Z
UID:14867-1755734400-1755820799@presbyteryofthejames.com
SUMMARY:Overture Deadline - October Stated Meeting
DESCRIPTION:Please submit to statedclerk@presbyteryofthejames.org.
URL:https://presbyteryofthejames.com/event/overture-deadline-october-stated-meeting/
END:VEVENT
BEGIN:VEVENT
DTSTART;VALUE=DATE:20250821
DTEND;VALUE=DATE:20250822
DTSTAMP:20260421T075334
CREATED:20250715T185607Z
LAST-MODIFIED:20250827T184414Z
UID:16473-1755734400-1755820799@presbyteryofthejames.com
SUMMARY:Sept COM Deadline
DESCRIPTION:To allow time for review\, all required forms\, including examination materials\, must be submitted to com@presbyteryofthejames.org by the third Thursday of the month for consideration at the following month’s meeting. \nThe Commission on Ministry (COM) committees meet on or by the first Thursday of each month.
URL:https://presbyteryofthejames.com/event/sep-com-deadline/
END:VEVENT
END:VCALENDAR