BEGIN:VCALENDAR
VERSION:2.0
PRODID:-//Presbytery of the James - ECPv6.15.18//NONSGML v1.0//EN
CALSCALE:GREGORIAN
METHOD:PUBLISH
X-WR-CALNAME:Presbytery of the James
X-ORIGINAL-URL:https://presbyteryofthejames.com
X-WR-CALDESC:Events for Presbytery of the James
REFRESH-INTERVAL;VALUE=DURATION:PT1H
X-Robots-Tag:noindex
X-PUBLISHED-TTL:PT1H
BEGIN:VTIMEZONE
TZID:America/New_York
BEGIN:DAYLIGHT
TZOFFSETFROM:-0500
TZOFFSETTO:-0400
TZNAME:EDT
DTSTART:20240310T070000
END:DAYLIGHT
BEGIN:STANDARD
TZOFFSETFROM:-0400
TZOFFSETTO:-0500
TZNAME:EST
DTSTART:20241103T060000
END:STANDARD
BEGIN:DAYLIGHT
TZOFFSETFROM:-0500
TZOFFSETTO:-0400
TZNAME:EDT
DTSTART:20250309T070000
END:DAYLIGHT
BEGIN:STANDARD
TZOFFSETFROM:-0400
TZOFFSETTO:-0500
TZNAME:EST
DTSTART:20251102T060000
END:STANDARD
BEGIN:DAYLIGHT
TZOFFSETFROM:-0500
TZOFFSETTO:-0400
TZNAME:EDT
DTSTART:20260308T070000
END:DAYLIGHT
BEGIN:STANDARD
TZOFFSETFROM:-0400
TZOFFSETTO:-0500
TZNAME:EST
DTSTART:20261101T060000
END:STANDARD
END:VTIMEZONE
BEGIN:VEVENT
DTSTART;VALUE=DATE:20250714
DTEND;VALUE=DATE:20250722
DTSTAMP:20260421T064336
CREATED:20250221T153222Z
LAST-MODIFIED:20250609T161639Z
UID:15430-1752451200-1753142399@presbyteryofthejames.com
SUMMARY:Guatemala Mission Week
DESCRIPTION:
URL:https://presbyteryofthejames.com/event/guatemala-mission-trip/
END:VEVENT
BEGIN:VEVENT
DTSTART;TZID=America/New_York:20250720T110000
DTEND;TZID=America/New_York:20250720T120000
DTSTAMP:20260421T064336
CREATED:20250623T190355Z
LAST-MODIFIED:20250623T190355Z
UID:16262-1753009200-1753012800@presbyteryofthejames.com
SUMMARY:Rev. Kerry Foster to preach at Milden Church
DESCRIPTION:
URL:https://presbyteryofthejames.com/event/rev-kerry-foster-to-preach-at-milden-church/
LOCATION:Milden Presbyterian Church\, 70 Front St\, Milden\, VA\, 22548\, United States
END:VEVENT
END:VCALENDAR