BEGIN:VCALENDAR
VERSION:2.0
PRODID:-//Presbytery of the James - ECPv6.15.18//NONSGML v1.0//EN
CALSCALE:GREGORIAN
METHOD:PUBLISH
X-ORIGINAL-URL:https://presbyteryofthejames.com
X-WR-CALDESC:Events for Presbytery of the James
REFRESH-INTERVAL;VALUE=DURATION:PT1H
X-Robots-Tag:noindex
X-PUBLISHED-TTL:PT1H
BEGIN:VTIMEZONE
TZID:America/New_York
BEGIN:DAYLIGHT
TZOFFSETFROM:-0500
TZOFFSETTO:-0400
TZNAME:EDT
DTSTART:20240310T070000
END:DAYLIGHT
BEGIN:STANDARD
TZOFFSETFROM:-0400
TZOFFSETTO:-0500
TZNAME:EST
DTSTART:20241103T060000
END:STANDARD
BEGIN:DAYLIGHT
TZOFFSETFROM:-0500
TZOFFSETTO:-0400
TZNAME:EDT
DTSTART:20250309T070000
END:DAYLIGHT
BEGIN:STANDARD
TZOFFSETFROM:-0400
TZOFFSETTO:-0500
TZNAME:EST
DTSTART:20251102T060000
END:STANDARD
BEGIN:DAYLIGHT
TZOFFSETFROM:-0500
TZOFFSETTO:-0400
TZNAME:EDT
DTSTART:20260308T070000
END:DAYLIGHT
BEGIN:STANDARD
TZOFFSETFROM:-0400
TZOFFSETTO:-0500
TZNAME:EST
DTSTART:20261101T060000
END:STANDARD
END:VTIMEZONE
BEGIN:VEVENT
DTSTART;TZID=America/New_York:20250703T113000
DTEND;TZID=America/New_York:20250703T130000
DTSTAMP:20260421T051607
CREATED:20241115T195106Z
LAST-MODIFIED:20241115T195106Z
UID:14833-1751542200-1751547600@presbyteryofthejames.com
SUMMARY:Commission on Ministry (COM) Moderators
DESCRIPTION:
URL:https://presbyteryofthejames.com/event/commission-on-ministry-com-moderators-11/
END:VEVENT
BEGIN:VEVENT
DTSTART;TZID=America/New_York:20250703T130000
DTEND;TZID=America/New_York:20250703T160000
DTSTAMP:20260421T051607
CREATED:20241115T195143Z
LAST-MODIFIED:20241115T195143Z
UID:14835-1751547600-1751558400@presbyteryofthejames.com
SUMMARY:Commission on Ministry (COM) Exams
DESCRIPTION:
URL:https://presbyteryofthejames.com/event/commission-on-ministry-com-exams-17/
END:VEVENT
END:VCALENDAR